BEGIN:VCALENDAR
VERSION:2.0
PRODID:-//www.washingtonpassportnetwork.org - ECPv6.15.20//NONSGML v1.0//EN
CALSCALE:GREGORIAN
METHOD:PUBLISH
X-WR-CALNAME:www.washingtonpassportnetwork.org
X-ORIGINAL-URL:https://www.washingtonpassportnetwork.org
X-WR-CALDESC:Events for www.washingtonpassportnetwork.org
REFRESH-INTERVAL;VALUE=DURATION:PT1H
X-Robots-Tag:noindex
X-PUBLISHED-TTL:PT1H
BEGIN:VTIMEZONE
TZID:America/Los_Angeles
BEGIN:DAYLIGHT
TZOFFSETFROM:-0800
TZOFFSETTO:-0700
TZNAME:PDT
DTSTART:20220313T100000
END:DAYLIGHT
BEGIN:STANDARD
TZOFFSETFROM:-0700
TZOFFSETTO:-0800
TZNAME:PST
DTSTART:20221106T090000
END:STANDARD
BEGIN:DAYLIGHT
TZOFFSETFROM:-0800
TZOFFSETTO:-0700
TZNAME:PDT
DTSTART:20230312T100000
END:DAYLIGHT
BEGIN:STANDARD
TZOFFSETFROM:-0700
TZOFFSETTO:-0800
TZNAME:PST
DTSTART:20231105T090000
END:STANDARD
BEGIN:DAYLIGHT
TZOFFSETFROM:-0800
TZOFFSETTO:-0700
TZNAME:PDT
DTSTART:20240310T100000
END:DAYLIGHT
BEGIN:STANDARD
TZOFFSETFROM:-0700
TZOFFSETTO:-0800
TZNAME:PST
DTSTART:20241103T090000
END:STANDARD
BEGIN:DAYLIGHT
TZOFFSETFROM:-0800
TZOFFSETTO:-0700
TZNAME:PDT
DTSTART:20250309T100000
END:DAYLIGHT
BEGIN:STANDARD
TZOFFSETFROM:-0700
TZOFFSETTO:-0800
TZNAME:PST
DTSTART:20251102T090000
END:STANDARD
END:VTIMEZONE
BEGIN:VTIMEZONE
TZID:UTC
BEGIN:STANDARD
TZOFFSETFROM:+0000
TZOFFSETTO:+0000
TZNAME:UTC
DTSTART:20220101T000000
END:STANDARD
END:VTIMEZONE
BEGIN:VEVENT
DTSTART;TZID=America/Los_Angeles:20240312T120000
DTEND;TZID=America/Los_Angeles:20240312T133000
DTSTAMP:20260421T230606
CREATED:20230706T214610Z
LAST-MODIFIED:20230706T214610Z
UID:10000194-1710244800-1710250200@www.washingtonpassportnetwork.org
SUMMARY:Eastern Regional Passport Group Meeting - in person
DESCRIPTION:If you are interested in learning more\, please email us at passport@collegesuccessfoundation.org.
URL:https://www.washingtonpassportnetwork.org/event/eastern-regional-passport-group-meeting-virtual-3/
LOCATION:WA
CATEGORIES:Regional Passport Group
END:VEVENT
BEGIN:VEVENT
DTSTART;TZID=America/Los_Angeles:20240307T110000
DTEND;TZID=America/Los_Angeles:20240307T123000
DTSTAMP:20260421T230606
CREATED:20240111T024517Z
LAST-MODIFIED:20240111T024517Z
UID:10000227-1709809200-1709814600@www.washingtonpassportnetwork.org
SUMMARY:The Journey Continues\, We Got You College & Career Resource Fair
DESCRIPTION:Please join us for the fourth annual The Journey Continues – We Got You! a virtual College and Career Resource Fair for Passport to Careers eligible students. This is an opportunity to meet representatives at the local colleges and get your questions answered about college\, apprenticeships\, financial aid\, scholarships\, and resources specifically for students who have experienced foster care or unaccompanied homelessness. \nThe event is intended for high school juniors and seniors from the Northwest Coastal area with experience in foster care or unaccompanied homelessness (without a parent or guardian)\, but all are welcome! Providers are also encouraged to attend. \nRegister in advance for this event: \nhttps://us02web.zoom.us/meeting/register/tZYodOmsqDMoG9TrLRR4Aw1QQlsySAynhdsG \nAfter registering\, you will receive a confirmation email containing information about joining the meeting.
URL:https://www.washingtonpassportnetwork.org/event/the-journey-continues-we-got-you-college-career-resource-fair/
LOCATION:Zoom
CATEGORIES:Regional Passport Group
END:VEVENT
BEGIN:VEVENT
DTSTART;TZID=America/Los_Angeles:20240222T110000
DTEND;TZID=America/Los_Angeles:20240222T123000
DTSTAMP:20260421T230606
CREATED:20230706T231558Z
LAST-MODIFIED:20230706T231558Z
UID:10000204-1708599600-1708605000@www.washingtonpassportnetwork.org
SUMMARY:South Central Regional Passport Group Meeting- virtual
DESCRIPTION:If you are interested in learning more\, please email us at passport@collegesuccessfoundation.org.
URL:https://www.washingtonpassportnetwork.org/event/south-central-regional-passport-group-meeting-virtual-4/
LOCATION:WA
CATEGORIES:Regional Passport Group
END:VEVENT
BEGIN:VEVENT
DTSTART;TZID=America/Los_Angeles:20240213T110000
DTEND;TZID=America/Los_Angeles:20240213T123000
DTSTAMP:20260421T230606
CREATED:20230706T232022Z
LAST-MODIFIED:20230706T232022Z
UID:10000209-1707822000-1707827400@www.washingtonpassportnetwork.org
SUMMARY:Pierce Kitsap Regional Passport Meeting- virtual
DESCRIPTION:If you are interested in learning more\, please email us at passport@collegesuccessfoundation.org.
URL:https://www.washingtonpassportnetwork.org/event/pierce-kitsap-regional-passport-meeting-virtual/
LOCATION:WA
CATEGORIES:Regional Passport Group
END:VEVENT
BEGIN:VEVENT
DTSTART;TZID=America/Los_Angeles:20240208T123000
DTEND;TZID=America/Los_Angeles:20240208T140000
DTSTAMP:20260421T230606
CREATED:20230706T231935Z
LAST-MODIFIED:20230706T231935Z
UID:10000208-1707395400-1707400800@www.washingtonpassportnetwork.org
SUMMARY:Pierce Kitsap Regional Passport Group Meeting - virtual
DESCRIPTION:If you are interested in learning more\, please email us at passport@collegesuccessfoundation.org.
URL:https://www.washingtonpassportnetwork.org/event/pierce-kitsap-regional-passport-group-meeting-virtual-2/
LOCATION:WA
CATEGORIES:Regional Passport Group
END:VEVENT
BEGIN:VEVENT
DTSTART;TZID=America/Los_Angeles:20240208T110000
DTEND;TZID=America/Los_Angeles:20240208T123000
DTSTAMP:20260421T230606
CREATED:20230706T230952Z
LAST-MODIFIED:20230706T230952Z
UID:10000199-1707390000-1707395400@www.washingtonpassportnetwork.org
SUMMARY:Western Regional Passport Group Meeting - virtual
DESCRIPTION:If you are interested in learning more\, please email us at passport@collegesuccessfoundation.org.
URL:https://www.washingtonpassportnetwork.org/event/western-regional-passport-group-meeting-virtual-3/
LOCATION:WA
CATEGORIES:Regional Passport Group
END:VEVENT
BEGIN:VEVENT
DTSTART;TZID=America/Los_Angeles:20240123T143000
DTEND;TZID=America/Los_Angeles:20240123T160000
DTSTAMP:20260421T230606
CREATED:20230706T214530Z
LAST-MODIFIED:20230706T214530Z
UID:10000193-1706020200-1706025600@www.washingtonpassportnetwork.org
SUMMARY:Eastern Regional Passport Group Meeting - virtual
DESCRIPTION:If you are interested in learning more\, please email us at passport@collegesuccessfoundation.org.
URL:https://www.washingtonpassportnetwork.org/event/eastern-regional-passport-group-meeting-virtual-2/
LOCATION:WA
CATEGORIES:Regional Passport Group
END:VEVENT
BEGIN:VEVENT
DTSTART;TZID=America/Los_Angeles:20240123T100000
DTEND;TZID=America/Los_Angeles:20240123T113000
DTSTAMP:20260421T230606
CREATED:20240105T194442Z
LAST-MODIFIED:20240105T194442Z
UID:10000226-1706004000-1706009400@www.washingtonpassportnetwork.org
SUMMARY:Region 2 (South Central) Training: Post-secondary Resources for Students in Foster Care and Unaccompanied Homeless Youth
DESCRIPTION:Join the Washington Passport Network for online training on post-secondary resources for students in foster care and young people experiencing homelessness without a parent or guardian. This training is designed for providers in South Central/Region 2 (Kittitas\, Yakima\, Benton\, Franklin\, Walla Walla\, Klickitat\, Columbia) including DCYF caseworkers\, OSPI foster care and McKinney-Vento liaisons\, high school career and guidance counselors\, and community-based partners. \nThe training will highlight: \n\nCollege scholarship and apprenticeship options\, including the Passport to Careers program\nEducation and Training Voucher (ETV) program\nIntroduction to the Washington Passport Network – a network for the providers who work with youth in foster care or youth experiencing homelessness. Representatives from local community colleges and universities that support Passport to Careers students will be online to introduce themselves.\n\n[button link=”https://us02web.zoom.us/meeting/register/tZclde-spjIvEtIQHt5eR_DpAr9xC7ZvpT9d ” type=”big” newwindow=”yes”] REGISTER[/button] \n 
URL:https://www.washingtonpassportnetwork.org/event/region-2-south-central-training-post-secondary-resources-for-students-in-foster-care-and-unaccompanied-homeless-youth-2/
LOCATION:WA
CATEGORIES:Regional Passport Group
END:VEVENT
BEGIN:VEVENT
DTSTART;TZID=America/Los_Angeles:20231214T110000
DTEND;TZID=America/Los_Angeles:20231214T123000
DTSTAMP:20260421T230606
CREATED:20230706T231522Z
LAST-MODIFIED:20230706T231522Z
UID:10000203-1702551600-1702557000@www.washingtonpassportnetwork.org
SUMMARY:South Central Regional Passport Group Meeting- virtual
DESCRIPTION:If you are interested in learning more\, please email us at passport@collegesuccessfoundation.org.
URL:https://www.washingtonpassportnetwork.org/event/south-central-regional-passport-group-meeting-virtual-3/
LOCATION:WA
CATEGORIES:Regional Passport Group
END:VEVENT
BEGIN:VEVENT
DTSTART;TZID=America/Los_Angeles:20231207T123000
DTEND;TZID=America/Los_Angeles:20231207T140000
DTSTAMP:20260421T230606
CREATED:20230706T231849Z
LAST-MODIFIED:20230706T231849Z
UID:10000207-1701952200-1701957600@www.washingtonpassportnetwork.org
SUMMARY:Pierce Kitsap Regional Passport Group Meeting - virtual
DESCRIPTION:If you are interested in learning more\, please email us at passport@collegesuccessfoundation.org.
URL:https://www.washingtonpassportnetwork.org/event/pierce-kitsap-regional-passport-group-meeting-virtual/
LOCATION:WA
CATEGORIES:Regional Passport Group
END:VEVENT
BEGIN:VEVENT
DTSTART;TZID=America/Los_Angeles:20231205T100000
DTEND;TZID=America/Los_Angeles:20231205T113000
DTSTAMP:20260421T230606
CREATED:20231103T162659Z
LAST-MODIFIED:20231103T162659Z
UID:10000222-1701770400-1701775800@www.washingtonpassportnetwork.org
SUMMARY:Northwest Regional Passport Network Group Meeting- virtual
DESCRIPTION:If you are interested in learning more\, please email us at passport@collegesuccessfoundation.org.
URL:https://www.washingtonpassportnetwork.org/event/northwest-regional-passport-network-meeting-virtual/
LOCATION:WA
CATEGORIES:Regional Passport Group
END:VEVENT
BEGIN:VEVENT
DTSTART;TZID=America/Los_Angeles:20231130T110000
DTEND;TZID=America/Los_Angeles:20231130T123000
DTSTAMP:20260421T230606
CREATED:20231103T162412Z
LAST-MODIFIED:20231103T162412Z
UID:10000198-1701342000-1701347400@www.washingtonpassportnetwork.org
SUMMARY:Western Regional Passport Group Meeting - virtual
DESCRIPTION:If you are interested in learning more\, please email us at passport@collegesuccecssfoundation.org.
URL:https://www.washingtonpassportnetwork.org/event/western-regional-passport-group-meeting-virtual-5/
LOCATION:WA
CATEGORIES:Regional Passport Group
END:VEVENT
BEGIN:VEVENT
DTSTART;TZID=America/Los_Angeles:20231107T120000
DTEND;TZID=America/Los_Angeles:20231107T133000
DTSTAMP:20260421T230606
CREATED:20230706T214454Z
LAST-MODIFIED:20230706T214454Z
UID:10000192-1699358400-1699363800@www.washingtonpassportnetwork.org
SUMMARY:Eastern Regional Passport Group Meeting - virtual
DESCRIPTION:If you are interested in learning more\, please email us at passport@collegesuccessfoundation.org.
URL:https://www.washingtonpassportnetwork.org/event/eastern-regional-passport-group-meeting-virtual/
LOCATION:WA
CATEGORIES:Regional Passport Group
END:VEVENT
BEGIN:VEVENT
DTSTART;TZID=America/Los_Angeles:20231102T100000
DTEND;TZID=America/Los_Angeles:20231102T113000
DTSTAMP:20260421T230606
CREATED:20230706T230822Z
LAST-MODIFIED:20230706T230822Z
UID:10000197-1698919200-1698924600@www.washingtonpassportnetwork.org
SUMMARY:Western Regional Passport Group Meeting - virtual
DESCRIPTION:Topic: Training: Postsecondary Education Pathway and Resources for Students in Foster Care and Unaccompanied Homeless Youth  \nIf you are interested in learning more\, please email us at passport@collegesuccessfoundation.org.
URL:https://www.washingtonpassportnetwork.org/event/western-regional-passport-group-meeting-virtual-2/
LOCATION:WA
CATEGORIES:Regional Passport Group
END:VEVENT
BEGIN:VEVENT
DTSTART;TZID=America/Los_Angeles:20231012T110000
DTEND;TZID=America/Los_Angeles:20231012T123000
DTSTAMP:20260421T230606
CREATED:20230706T231444Z
LAST-MODIFIED:20230706T231444Z
UID:10000202-1697108400-1697113800@www.washingtonpassportnetwork.org
SUMMARY:South Central Regional Passport Group Meeting- virtual
DESCRIPTION:If you are interested in learning more\, please email us at passport@collegesuccecssfoundation.org.
URL:https://www.washingtonpassportnetwork.org/event/south-central-regional-passport-group-meeting-virtual-2/
LOCATION:WA
CATEGORIES:Regional Passport Group
END:VEVENT
BEGIN:VEVENT
DTSTART;TZID=America/Los_Angeles:20230912T103000
DTEND;TZID=America/Los_Angeles:20230912T133000
DTSTAMP:20260421T230606
CREATED:20230706T214412Z
LAST-MODIFIED:20230706T214412Z
UID:10000191-1694514600-1694525400@www.washingtonpassportnetwork.org
SUMMARY:Eastern Regional Passport Group Meeting - in person
DESCRIPTION:
URL:https://www.washingtonpassportnetwork.org/event/eastern-regional-passport-group-meeting-in-person/
LOCATION:Spokane Falls Community College\, 3410 W Whistalks Way\, Spokane\, WA\, 99224\, United States
CATEGORIES:Regional Passport Group
END:VEVENT
BEGIN:VEVENT
DTSTART;TZID=America/Los_Angeles:20230829T100000
DTEND;TZID=America/Los_Angeles:20230829T130000
DTSTAMP:20260421T230606
CREATED:20230706T231801Z
LAST-MODIFIED:20230706T231801Z
UID:10000206-1693303200-1693314000@www.washingtonpassportnetwork.org
SUMMARY:Pierce Kitsap Regional Passport Group Meeting - in person
DESCRIPTION:If you are interested in learning more\, please email us at passport@collegesuccecssfoundation.org.
URL:https://www.washingtonpassportnetwork.org/event/pierce-kitsap-regional-passport-group-meeting-in-person/
LOCATION:University of Washington – Tacoma
CATEGORIES:Regional Passport Group
END:VEVENT
BEGIN:VEVENT
DTSTART;TZID=America/Los_Angeles:20230828T080000
DTEND;TZID=America/Los_Angeles:20230828T170000
DTSTAMP:20260421T230606
CREATED:20230706T231259Z
LAST-MODIFIED:20230706T231259Z
UID:10000201-1693209600-1693242000@www.washingtonpassportnetwork.org
SUMMARY:South Central Regional Passport Group Meeting - in person
DESCRIPTION:If you are interested in learning more\, please email us at passport@collegesuccecssfoundation.org.
URL:https://www.washingtonpassportnetwork.org/event/south-central-regional-passport-group-meeting-in-person/
LOCATION:Perry Technical Institute\, 2011 W Washington Ave\, Yakima\, WA\, 98903\, United States
CATEGORIES:Regional Passport Group
END:VEVENT
BEGIN:VEVENT
DTSTART;TZID=America/Los_Angeles:20230817T110000
DTEND;TZID=America/Los_Angeles:20230817T123000
DTSTAMP:20260421T230606
CREATED:20230706T215050Z
LAST-MODIFIED:20230706T215050Z
UID:10000196-1692270000-1692275400@www.washingtonpassportnetwork.org
SUMMARY:Western Regional Passport Group Meeting - virtual
DESCRIPTION:If you are interested in learning more\, please email us at passport@collegesuccecssfoundation.org.
URL:https://www.washingtonpassportnetwork.org/event/western-regional-passport-group-meeting-virtual/
LOCATION:WA
CATEGORIES:Regional Passport Group
END:VEVENT
BEGIN:VEVENT
DTSTART;TZID=UTC:20230613T140000
DTEND;TZID=UTC:20230613T153000
DTSTAMP:20260421T230606
CREATED:20221105T033226Z
LAST-MODIFIED:20221105T033226Z
UID:10000120-1686664800-1686670200@www.washingtonpassportnetwork.org
SUMMARY:Northwest Regional Passport Group Meeting
DESCRIPTION:This regional group is for professionals and educators in the Northwest region/Region 3* that work in the secondary or post-secondary area and support Passport to Careers eligible students. Please contact passport@collegesuccessfoundation.org for more information.   \n*Region 3 includes Snohomish\, Skagit\, Whatcom\, Island\, and/or San Juan Counties.
URL:https://www.washingtonpassportnetwork.org/event/northwest-regional-passport-group-meeting-15/
LOCATION:Zoom
CATEGORIES:Regional Passport Group
END:VEVENT
BEGIN:VEVENT
DTSTART;TZID=UTC:20230518T110000
DTEND;TZID=UTC:20230518T123000
DTSTAMP:20260421T230606
CREATED:20221105T032921Z
LAST-MODIFIED:20221105T032921Z
UID:10000117-1684407600-1684413000@www.washingtonpassportnetwork.org
SUMMARY:South Central Regional Passport Group
DESCRIPTION:If you work in the secondary or post-secondary space and support Passport to Careers eligible students in the South Central area/Region 2* and would like to connect with other professionals and share resources\, consider joining this group! The South Central Passport group convenes quarterly and meetings are facilitated by the College Success Foundation. Please email passport@collegesuccessfoundation.org for more information. \n*Region 2 includes Yakima\, Klickitat\, Benton\, Franklin\, Walla Walla\, Tri-Cities – Kennewick\, Pasco\, Richland.
URL:https://www.washingtonpassportnetwork.org/event/south-central-regional-passport-group-2/
LOCATION:Zoom
CATEGORIES:Regional Passport Group
END:VEVENT
BEGIN:VEVENT
DTSTART;TZID=UTC:20230516T143000
DTEND;TZID=UTC:20230516T160000
DTSTAMP:20260421T230606
CREATED:20221105T032644Z
LAST-MODIFIED:20221105T032644Z
UID:10000115-1684247400-1684252800@www.washingtonpassportnetwork.org
SUMMARY:Eastern Regional Passport Group
DESCRIPTION:The Eastern Regional Passport Group facilitates collaboration among local service providers\, addresses barriers\, and further empowers students who have experienced foster care or unaccompanied homelessness to achieve their secondary and post-secondary educational and training goals. You are invited to join our group if you work in the secondary or postsecondary space and support Passport to Careers eligible students in the Eastern Washington region\, and would like to connect with professionals. These meetings are facilitated by the College Success Foundation. Please email passport@collegesuccessfoundation.org for more information.
URL:https://www.washingtonpassportnetwork.org/event/eastern-regional-passport-group-3/
LOCATION:Zoom
CATEGORIES:Regional Passport Group
END:VEVENT
BEGIN:VEVENT
DTSTART;TZID=UTC:20230509T133000
DTEND;TZID=UTC:20230509T150000
DTSTAMP:20260421T230606
CREATED:20221105T033713Z
LAST-MODIFIED:20221105T033713Z
UID:10000125-1683639000-1683644400@www.washingtonpassportnetwork.org
SUMMARY:Pierce & Kitsap County Passport Group Meeting
DESCRIPTION:If you work in the secondary or post-secondary space and support Passport to Careers eligible students in Pierce & Kitsap and would like to connect with professionals\, this meeting is for you! This Passport regional group convenes quarterly and meetings are facilitated by the College Success Foundation. Please email passport@collegesuccessfoundation.org for more information.
URL:https://www.washingtonpassportnetwork.org/event/pierce-kitsap-county-passport-group-meeting-3/
LOCATION:Zoom
CATEGORIES:Regional Passport Group
END:VEVENT
BEGIN:VEVENT
DTSTART;TZID=UTC:20230509T100000
DTEND;TZID=UTC:20230509T113000
DTSTAMP:20260421T230606
CREATED:20221105T033459Z
LAST-MODIFIED:20221105T033459Z
UID:10000123-1683626400-1683631800@www.washingtonpassportnetwork.org
SUMMARY:King County Passport Consortium Meeting
DESCRIPTION:The King County Passport Consortium is a diverse group of King County stakeholders who create strategies that improve access to post-secondary programs for youth who have been in foster care or have experienced unaccompanied homelessness. Please email passport@collegesuccessfoundation.org for more information.
URL:https://www.washingtonpassportnetwork.org/event/king-county-passport-consortium-meeting-10/
LOCATION:Zoom
CATEGORIES:Regional Passport Group
END:VEVENT
BEGIN:VEVENT
DTSTART;TZID=UTC:20230504T133000
DTEND;TZID=UTC:20230504T150000
DTSTAMP:20260421T230606
CREATED:20221105T034001Z
LAST-MODIFIED:20221105T034001Z
UID:10000127-1683207000-1683212400@www.washingtonpassportnetwork.org
SUMMARY:Western Regional Passport Group Meeting
DESCRIPTION:If you are a service provider in the secondary or post-secondary space working with Passport to Careers eligible students in Region 6* and would like to connect\, build community\, and share resources with other professionals\, this meeting is for you! This Passport regional group convenes the College Success Foundation facilitates quarterly and meetings. Please email passport@collegesuccessfoundation.org for more information.  \n*Region 6 includes Grays Harbor\, Thurston\, Lewis\, Cowlitz\, Skamania\, Clark
URL:https://www.washingtonpassportnetwork.org/event/western-regional-passport-group-meeting-2/
LOCATION:Zoom
CATEGORIES:Regional Passport Group
END:VEVENT
BEGIN:VEVENT
DTSTART;TZID=UTC:20230411T140000
DTEND;TZID=UTC:20230411T153000
DTSTAMP:20260421T230606
CREATED:20221105T033121Z
LAST-MODIFIED:20221105T033121Z
UID:10000119-1681221600-1681227000@www.washingtonpassportnetwork.org
SUMMARY:Northwest Regional Passport Group Meeting
DESCRIPTION:This regional group is for professionals and educators in the Northwest region/Region 3* that work in the secondary or post-secondary area and support Passport to Careers eligible students. Please contact passport@collegesuccessfoundation.org for more information.   \n*Region 3 includes Snohomish\, Skagit\, Whatcom\, Island\, and/or San Juan Counties.
URL:https://www.washingtonpassportnetwork.org/event/northwest-regional-passport-group-meeting-14/
LOCATION:Zoom
CATEGORIES:Regional Passport Group
END:VEVENT
BEGIN:VEVENT
DTSTART;TZID=UTC:20230321T143000
DTEND;TZID=UTC:20230321T160000
DTSTAMP:20260421T230606
CREATED:20221105T032550Z
LAST-MODIFIED:20221105T032550Z
UID:10000114-1679409000-1679414400@www.washingtonpassportnetwork.org
SUMMARY:Eastern Regional Passport Group
DESCRIPTION:The Eastern Regional Passport Group facilitates collaboration among local service providers\, addresses barriers\, and further empowers students who have experienced foster care or unaccompanied homelessness to achieve their secondary and post-secondary educational and training goals. You are invited to join our group if you work in the secondary or postsecondary space and support Passport to Careers eligible students in the Eastern Washington region\, and would like to connect with professionals. These meetings are facilitated by the College Success Foundation. Please email passport@collegesuccessfoundation.org for more information.
URL:https://www.washingtonpassportnetwork.org/event/eastern-regional-passport-group-2/
LOCATION:Zoom
CATEGORIES:Regional Passport Group
END:VEVENT
BEGIN:VEVENT
DTSTART;TZID=UTC:20230314T100000
DTEND;TZID=UTC:20230314T113000
DTSTAMP:20260421T230606
CREATED:20221105T033414Z
LAST-MODIFIED:20221105T033414Z
UID:10000122-1678788000-1678793400@www.washingtonpassportnetwork.org
SUMMARY:King County Passport Consortium Meeting
DESCRIPTION:The King County Passport Consortium is a diverse group of King County stakeholders who create strategies that improve access to post-secondary programs for youth who have been in foster care or have experienced unaccompanied homelessness. Please email passport@collegesuccessfoundation.org for more information.
URL:https://www.washingtonpassportnetwork.org/event/king-county-passport-consortium-meeting-9/
LOCATION:Zoom
CATEGORIES:Regional Passport Group
END:VEVENT
BEGIN:VEVENT
DTSTART;TZID=UTC:20230223T110000
DTEND;TZID=UTC:20230223T123000
DTSTAMP:20260421T230606
CREATED:20221105T032800Z
LAST-MODIFIED:20221105T032800Z
UID:10000116-1677150000-1677155400@www.washingtonpassportnetwork.org
SUMMARY:South Central Regional Passport Group
DESCRIPTION:If you work in the secondary or post-secondary space and support Passport to Careers eligible students in the South Central area/Region 2* and would like to connect with other professionals and share resources\, consider joining this group! The South Central Passport group convenes quarterly and meetings are facilitated by the College Success Foundation. Please email passport@collegesuccessfoundation.org for more information. \n*Region 2 includes Yakima\, Klickitat\, Benton\, Franklin\, Walla Walla\, Tri-Cities – Kennewick\, Pasco\, Richland.
URL:https://www.washingtonpassportnetwork.org/event/south-central-regional-passport-group/
LOCATION:Zoom
CATEGORIES:Regional Passport Group
END:VEVENT
BEGIN:VEVENT
DTSTART;TZID=UTC:20230214T140000
DTEND;TZID=UTC:20230214T153000
DTSTAMP:20260421T230606
CREATED:20221105T033028Z
LAST-MODIFIED:20221105T033028Z
UID:10000118-1676383200-1676388600@www.washingtonpassportnetwork.org
SUMMARY:Northwest Regional Passport Group Meeting
DESCRIPTION:This regional group is for professionals and educators in the Northwest region/Region 3* that work in the secondary or post-secondary area and support Passport to Careers eligible students. Please contact passport@collegesuccessfoundation.org for more information.   \n*Region 3 includes Snohomish\, Skagit\, Whatcom\, Island\, and/or San Juan Counties.
URL:https://www.washingtonpassportnetwork.org/event/northwest-regional-passport-group-meeting-13/
LOCATION:Zoom
CATEGORIES:Regional Passport Group
END:VEVENT
END:VCALENDAR