BEGIN:VCALENDAR
VERSION:2.0
PRODID:-//www.washingtonpassportnetwork.org - ECPv6.15.20//NONSGML v1.0//EN
CALSCALE:GREGORIAN
METHOD:PUBLISH
X-WR-CALNAME:www.washingtonpassportnetwork.org
X-ORIGINAL-URL:https://www.washingtonpassportnetwork.org
X-WR-CALDESC:Events for www.washingtonpassportnetwork.org
REFRESH-INTERVAL;VALUE=DURATION:PT1H
X-Robots-Tag:noindex
X-PUBLISHED-TTL:PT1H
BEGIN:VTIMEZONE
TZID:UTC
BEGIN:STANDARD
TZOFFSETFROM:+0000
TZOFFSETTO:+0000
TZNAME:UTC
DTSTART:20170101T000000
END:STANDARD
END:VTIMEZONE
BEGIN:VEVENT
DTSTART;TZID=UTC:20220525T140000
DTEND;TZID=UTC:20220525T150000
DTSTAMP:20260422T122701
CREATED:20220510T064012Z
LAST-MODIFIED:20220510T064012Z
UID:10000102-1653487200-1653490800@www.washingtonpassportnetwork.org
SUMMARY:Our "Vision for the Future": Foster Care Reimagined - Presented by Lived Experience Advisors and Think of Us partners
DESCRIPTION:[et_pb_section fb_built=”1″ admin_label=”section” _builder_version=”4.16″ global_colors_info=”{}”][et_pb_row admin_label=”row” _builder_version=”4.16″ background_size=”initial” background_position=”top_left” background_repeat=”repeat” global_colors_info=”{}”][et_pb_column type=”4_4″ _builder_version=”4.16″ custom_padding=”|||” global_colors_info=”{}” custom_padding__hover=”|||”][et_pb_text admin_label=”Text” _builder_version=”4.16″ background_size=”initial” background_position=”top_left” background_repeat=”repeat” global_colors_info=”{}”]About a year ago\, Think of Us embarked on a research project where they collaborated with lived experience experts in Washington to co-design a “Vision for the Future” for the office of Adolescent Programs in partnership with DCYF. \nCome join us in this special presentation where some of the lived experts that created this vision will share nuggets of intimate knowledge about how they experienced the foster care system to show us what the kind of foster care they envision would look and feel like. \nThis proposal lays out the plan to get to this world by reimagining five key stages of the adolescent experience: \n1. Entering the system with dignity. \n2. Experiencing the system empowered. \n3. Anticipating adulthood with support. \n4. Entering adulthood prepared. \n5. Exiting the system ready. \nThen\, it maps out what it will take Washington State to get to this world. \nPresented by Lived Experience Advisors and Think of Us partners \nLearn more about Think of Us. \nRegister for this webinar now! \n[/et_pb_text][/et_pb_column][/et_pb_row][/et_pb_section]
URL:https://www.washingtonpassportnetwork.org/event/our-vision-for-the-future-foster-care-reimagined-presented-by-lived-experience-advisors-and-think-of-us-partners/
CATEGORIES:webinar
END:VEVENT
BEGIN:VEVENT
DTSTART;TZID=UTC:20181031T140000
DTEND;TZID=UTC:20181031T150000
DTSTAMP:20260422T122701
CREATED:20181018T012654Z
LAST-MODIFIED:20181018T012654Z
UID:10000014-1540994400-1540998000@www.washingtonpassportnetwork.org
SUMMARY:Webinar Series: Viable Plan Design 101
DESCRIPTION:The deadline for participating Passport institutions to submit their viable plans to WSAC is December 31\, 2018. This webinar\, facilitated by College Success Foundation and representatives from Eastern Washington University\, Whatcom Community College\, and Lower Columbia College\, has the following learning objectives: \n\nReview important background information such as the purpose of the viable plan\, recommended process for design\, and submission deadline;\nDiscuss each section of the viable plan template and present example strategies that can be used in each area;\nReview frequently asked questions;\nTime permitting\, conduct live Q+A with webinar attendees (via chat).\n\nFacilitators will discuss viable plan strategies relevant to both 2 year and 4 year institutions. \nQuestions? Contact Kareena Willis: Kwillis@collegesuccessfoundation.org \nRegister in advance for this webinar: \nhttps://zoom.us/webinar/register/WN_9HFP7KvpQq-sVPrnzFQRjw \nAfter registering\, you will receive a confirmation email containing information about joining the webinar.
URL:https://www.washingtonpassportnetwork.org/event/webinar-series-viable-plan-design-101/
CATEGORIES:webinar
ORGANIZER;CN="Molly Donahue":MAILTO:mdonahue@collegesuccessfoundation.org
END:VEVENT
END:VCALENDAR