BEGIN:VCALENDAR
VERSION:2.0
PRODID:-//www.washingtonpassportnetwork.org - ECPv6.15.20//NONSGML v1.0//EN
CALSCALE:GREGORIAN
METHOD:PUBLISH
X-ORIGINAL-URL:https://www.washingtonpassportnetwork.org
X-WR-CALDESC:Events for www.washingtonpassportnetwork.org
REFRESH-INTERVAL;VALUE=DURATION:PT1H
X-Robots-Tag:noindex
X-PUBLISHED-TTL:PT1H
BEGIN:VTIMEZONE
TZID:America/Los_Angeles
BEGIN:DAYLIGHT
TZOFFSETFROM:-0800
TZOFFSETTO:-0700
TZNAME:PDT
DTSTART:20240310T100000
END:DAYLIGHT
BEGIN:STANDARD
TZOFFSETFROM:-0700
TZOFFSETTO:-0800
TZNAME:PST
DTSTART:20241103T090000
END:STANDARD
BEGIN:DAYLIGHT
TZOFFSETFROM:-0800
TZOFFSETTO:-0700
TZNAME:PDT
DTSTART:20250309T100000
END:DAYLIGHT
BEGIN:STANDARD
TZOFFSETFROM:-0700
TZOFFSETTO:-0800
TZNAME:PST
DTSTART:20251102T090000
END:STANDARD
BEGIN:DAYLIGHT
TZOFFSETFROM:-0800
TZOFFSETTO:-0700
TZNAME:PDT
DTSTART:20260308T100000
END:DAYLIGHT
BEGIN:STANDARD
TZOFFSETFROM:-0700
TZOFFSETTO:-0800
TZNAME:PST
DTSTART:20261101T090000
END:STANDARD
BEGIN:DAYLIGHT
TZOFFSETFROM:-0800
TZOFFSETTO:-0700
TZNAME:PDT
DTSTART:20270314T100000
END:DAYLIGHT
BEGIN:STANDARD
TZOFFSETFROM:-0700
TZOFFSETTO:-0800
TZNAME:PST
DTSTART:20271107T090000
END:STANDARD
END:VTIMEZONE
BEGIN:VTIMEZONE
TZID:America/Detroit
BEGIN:DAYLIGHT
TZOFFSETFROM:-0500
TZOFFSETTO:-0400
TZNAME:EDT
DTSTART:20240310T070000
END:DAYLIGHT
BEGIN:STANDARD
TZOFFSETFROM:-0400
TZOFFSETTO:-0500
TZNAME:EST
DTSTART:20241103T060000
END:STANDARD
BEGIN:DAYLIGHT
TZOFFSETFROM:-0500
TZOFFSETTO:-0400
TZNAME:EDT
DTSTART:20250309T070000
END:DAYLIGHT
BEGIN:STANDARD
TZOFFSETFROM:-0400
TZOFFSETTO:-0500
TZNAME:EST
DTSTART:20251102T060000
END:STANDARD
BEGIN:DAYLIGHT
TZOFFSETFROM:-0500
TZOFFSETTO:-0400
TZNAME:EDT
DTSTART:20260308T070000
END:DAYLIGHT
BEGIN:STANDARD
TZOFFSETFROM:-0400
TZOFFSETTO:-0500
TZNAME:EST
DTSTART:20261101T060000
END:STANDARD
END:VTIMEZONE
BEGIN:VEVENT
DTSTART;TZID=America/Los_Angeles:20250502T110000
DTEND;TZID=America/Los_Angeles:20250502T120000
DTSTAMP:20260422T153319
CREATED:20250419T023120Z
LAST-MODIFIED:20250423T205554Z
UID:10000264-1746183600-1746187200@www.washingtonpassportnetwork.org
SUMMARY:Webinar: 2025 Legislative Highlights & Updates
DESCRIPTION:Get updates about this year’s legislative session from Joel Anderson\, WSAC’s assistant director of external affairs and legislative liaison\, and Yokiko Hayashi-Saguil\, College Success Foundation’s director of government relations and advocacy. They will walk us through the latest from Olympia\, with a focus on funding for the Passport to Careers program and other related measures. \n\n\n\nPresenters \n\n\n\nJoel Anderson is an assistant director of external affairs and legislative liaison for the Washington Student Achievement Council (WSAC). Prior to joining WSAC\, he served as vice president of external affairs for UW-Seattle’s Graduate and Professional Student Senate while earning his Master of Public Administration from the UW Evans School of Public Policy & Governance. Joel has also worked for multiple elected officials\, including former U.S. Rep. Derek Kilmer (WA-06) and Tacoma City Council Member Kiara Daniels\, and earned a BA from Washington University in St. Louis. \n\n\n\nYokiko Hayashi-Saguil is director of government relations and advocacy at College Success Foundation. A former member of the Passport Leadership Team\, Yokiko has spent more than a decade advocating for diversity\, equity and inclusion within educational systems in her policy roles at the State Board for Community and Technical Colleges\, WSAC\, and more. She is a lifelong Pacific Northwesterner from Olympia\, Washington. She holds a bachelor’s of liberal arts with an emphasis on Japanese culture and language and received her master’s of public administration and public policy from the Evergreen State College. She is currently pursuing a doctorate in educational leadership\, focusing on multiracial identity\, at UW-Tacoma.
URL:https://www.washingtonpassportnetwork.org/event/webinar-2025-legislative-highlights-updates/
CATEGORIES:webinar
ATTACH;FMTTYPE=image/png:https://www.washingtonpassportnetwork.org/wp-content/uploads/2025/04/250502-Legislative-Updtaes-web-v2.png
LOCATION:https://www.washingtonpassportnetwork.org/event/webinar-2025-legislative-highlights-updates/
END:VEVENT
BEGIN:VEVENT
DTSTART;TZID=America/Detroit:20250505T140000
DTEND;TZID=America/Detroit:20250505T150000
DTSTAMP:20260422T153319
CREATED:20250419T025817Z
LAST-MODIFIED:20250419T025819Z
UID:10000266-1746453600-1746457200@www.washingtonpassportnetwork.org
SUMMARY:Passport Office Hours
DESCRIPTION:Drop in for virtual office hours with the Passport to Careers team on the first Monday of every month. Got a quick question about program eligibility\, need technical assistance\, or just looking for help brainstorming strategies? Staff from both the college and apprenticeship pathways will be here to help with all this and more! \n\n\n\nNo registration necessary\, simply follow the Zoom link below to join.
URL:https://www.washingtonpassportnetwork.org/event/passport-office-hours-2/2025-05-05/
CATEGORIES:Passport Office Hours
ATTACH;FMTTYPE=image/png:https://www.washingtonpassportnetwork.org/wp-content/uploads/2025/01/2025-Office-Hours-1200x465-1.png
LOCATION:https://us02web.zoom.us/j/84324460920?pwd=acFtSrYoV4clPfamdoHuNXfnNVe3K3.1#success
END:VEVENT
BEGIN:VEVENT
DTSTART;TZID=America/Los_Angeles:20250506T000000
DTEND;TZID=America/Los_Angeles:20250507T235959
DTSTAMP:20260422T153319
CREATED:20240813T232557Z
LAST-MODIFIED:20250419T022426Z
UID:10000235-1746489600-1746662399@www.washingtonpassportnetwork.org
SUMMARY:2025 Passport to Careers Conference
DESCRIPTION:The annual Passport to Careers Conference returns in-person in 2025! At this two-day conference\, you’ll have an opportunity to learn from experts\, expand your professional network and enjoy the camaraderie of colleagues from across the state who are working to create educational parity for students with experience in foster care or unaccompanied homelessness. \n\n\n\nLearn more & register
URL:https://www.washingtonpassportnetwork.org/event/2025-passport-to-careers-conference/
CATEGORIES:Conference
ATTACH;FMTTYPE=image/png:https://www.washingtonpassportnetwork.org/wp-content/uploads/2025/03/250506-PassportToCareers-Whova-Banner-2000x750-1.png
END:VEVENT
BEGIN:VEVENT
DTSTART;TZID=America/Detroit:20250520T100000
DTEND;TZID=America/Detroit:20250520T113000
DTSTAMP:20260422T153319
CREATED:20250521T012505Z
LAST-MODIFIED:20250521T012946Z
UID:10000269-1747735200-1747740600@www.washingtonpassportnetwork.org
SUMMARY:Western Regional Passport Group Q4 Meeting
DESCRIPTION:Join Passport Network members from the Western Washington region for a collaborative discussion. Agenda coming soon. To learn more\, contact passport@collegesuccessfoundation.org
URL:https://www.washingtonpassportnetwork.org/event/western-regional-passport-group-q4-meeting/
CATEGORIES:Regional Passport Group
LOCATION:https://www.washingtonpassportnetwork.org/event/western-regional-passport-group-q4-meeting/
END:VEVENT
BEGIN:VEVENT
DTSTART;TZID=America/Detroit:20250603T160000
DTEND;TZID=America/Detroit:20250603T170000
DTSTAMP:20260422T153319
CREATED:20250515T233019Z
LAST-MODIFIED:20250520T214400Z
UID:10000267-1748966400-1748970000@www.washingtonpassportnetwork.org
SUMMARY:Region 3 College & Career Fair
DESCRIPTION:Join us for a virtual college and career resource fair. This event is geared toward high school juniors and seniors in the Northwest Coastal region (region 3) with experience in foster or unaccompanied homelessness\, but all are welcome! \n\n\n\nStudents will have a chance to meet representatives from local organizations and learn about supports\, scholarships and resources. This resource informational session will be an hour long\, and will include information on the Passport to Careers program\, ANEW (apprenticeship and pre-apprenticeship programs)\, and DCYF’s Education and Training Voucher (ETV) program. Attendees will be entered in a raffle to win e-gift cards! \n\n\n\nThis event is presented in partnership with ANEW and Washington State Department of Children\, Youth & Families.
URL:https://www.washingtonpassportnetwork.org/event/region-3-college-career-fair/
ATTACH;FMTTYPE=image/png:https://www.washingtonpassportnetwork.org/wp-content/uploads/2025/05/2025-College-Career-Resource-Fair-Web-Graphic-1.png
LOCATION:https://www.washingtonpassportnetwork.org/event/region-3-college-career-fair/
END:VEVENT
BEGIN:VEVENT
DTSTART;TZID=America/Los_Angeles:20250623T000000
DTEND;TZID=America/Los_Angeles:20250623T235959
DTSTAMP:20260422T153319
CREATED:20240813T232758Z
LAST-MODIFIED:20250604T213304Z
UID:10000236-1750636800-1750723199@www.washingtonpassportnetwork.org
SUMMARY:Passport Leadership Team Q4 Meeting
DESCRIPTION:Quarterly Passport Leadership Team meetings are open to all members of the PLT. Composed of a cross-sector of student-support practitioners and stakeholders from across the state\, the PLT is dedicated to enhancing the program design\, implementation and quality of the Passport to Careers program. Specific agenda items will be shared with attendees prior to the meeting. To learn more\, contact passport@collegesuccessfoundation.org. \nVenue and schedule TBA.
URL:https://www.washingtonpassportnetwork.org/event/passport-leadership-team-q4-meeting/
CATEGORIES:Leadership Team
END:VEVENT
BEGIN:VEVENT
DTSTART;TZID=America/Detroit:20250630T130000
DTEND;TZID=America/Detroit:20250630T143000
DTSTAMP:20260422T153319
CREATED:20250520T214708Z
LAST-MODIFIED:20250625T225225Z
UID:10000268-1751288400-1751293800@www.washingtonpassportnetwork.org
SUMMARY:Pierce/Kitsap Regional Passport Group Q4 Meeting
DESCRIPTION:Join Passport Network members from the Pierce/Kitsap region for a collaborative discussion and program spotlight on Coffee Oasis. Agenda coming soon. To learn more\, contact passport@collegesuccessfoundation.org. \n\n\n\nView agenda >>
URL:https://www.washingtonpassportnetwork.org/event/pierce-kitsap-regional-passport-group-q4-meeting/
CATEGORIES:Regional Passport Group
LOCATION:https://us02web.zoom.us/j/88211623088?pwd=DI6VO5pkE6XfCrHanX08MsCqYnVO2u.1
END:VEVENT
BEGIN:VEVENT
DTSTART;TZID=America/Los_Angeles:20250630T143000
DTEND;TZID=America/Los_Angeles:20250630T153000
DTSTAMP:20260422T153319
CREATED:20250625T213259Z
LAST-MODIFIED:20250627T185706Z
UID:10000272-1751293800-1751297400@www.washingtonpassportnetwork.org
SUMMARY:Webinar: Passport Alumni Spotlight
DESCRIPTION:Join us to hear from two Passport alumni\, Jose Velazquez and Cam Turner. Attendees will learn about their stories\, their journey through college\, what supports they found most meaningful\, and much more! \n\n\n\nSpeakers\n\n\n\nJose Velazquez Mancilla is a recent MBA graduate from San Diego State University and a first-generation college graduate who earned his bachelor’s degree from Washington State University in 2019. As a former foster youth and proud alumni of the Passport to College program\, his path through higher education has been shaped by the kind of support systems that help students persist when the odds are stacked against them. \n\n\n\nRaised in a small farming town in Central Washington\, Jose went on to lead student support and financial education initiatives at WSU\, helping secure long-term funding for programming and improving outcomes for students navigating financial insecurity. While his work has since evolved beyond financial literacy\, the lessons from that chapter – both personal and professional – continue to influence how he approaches strategy and impact.  \n\n\n\nToday\, Jose has transitioned into the private sector\, where he applies his experience to support firms with operational and financial planning strategies. While his day-to-day now looks different\, the values that shaped his early work; community\, access\, and impact; continue to inform how he shows up when opportunities to give back arise. For Jose\, it’s always been about opening doors\,  and leaving them open a little wider for whoever comes next. \n\n\n\n\n\n\n\nCam Turner was born and raised in the Bible Belt\, specifically Texas\, where they spent the longest amount of time. Cam moved to Washington at age 18\, when they began attending Washington State University. They earned their BA in social science (cum laude) with a minor in Spanish in the spring of 2025. Cam is currently enrolled in a master’s program at the University of Washington for Public Policy. Cam now lives in Seattle with their partner and cats\, and enjoys painting\, writing and sewing during their free time.
URL:https://www.washingtonpassportnetwork.org/event/webinar-passport-alumni-spotlight/
CATEGORIES:webinar
ATTACH;FMTTYPE=image/png:https://www.washingtonpassportnetwork.org/wp-content/uploads/2025/06/250630-Webinar-Alumni-Spotlight-1200x465-v2.png
LOCATION:https://us02web.zoom.us/meeting/register/tU2rZAvhTOiRqv7SfLX_sQ#/registration
END:VEVENT
BEGIN:VEVENT
DTSTART;TZID=America/Los_Angeles:20250728T130000
DTEND;TZID=America/Los_Angeles:20250728T140000
DTSTAMP:20260422T153319
CREATED:20250710T212458Z
LAST-MODIFIED:20251205T173458Z
UID:10000273-1753707600-1753711200@www.washingtonpassportnetwork.org
SUMMARY:Getting to Gold: Using Data and Community to Improve Student Access
DESCRIPTION:This webinar will provide an overview of WSU Student Financial Services’ data identification methods of Passport to College-eligible students as guided by the McKinney-Vento Act\, FAFSA guidelines and state legislation\, ensuring financial assistance for eligible students. Comprehensive support includes priority work-study\, emergency funds\, and personalized advising\, with community partnerships enhancing access to essential services. \n\n\n\nMeet our speaker!\n\n\n\n Misty is a passionate student services professional\, with Bachelor’s degrees in Organizational Development\, Industrial/Organizational Psychology\, and Interpersonal Communication and a Master’s degree in Higher Education Leadership. Misty has worked in Student Financial Services (SFS) at Washington State University since 2023. As the State Aid Advisor Misty oversees awarding and compliance for state funded financial aid\, including management of Passport to Careers. While at WSU Student Financial Services Misty has increased the reach of the Passport to Careers program at WSU through on-going financial aid trainings\, dedicated financial aid office hours for Passport students\, and by designing queries to leverage existing student data\, to the benefit of both the SFS office and the Passport campus support staff. When not working Misty likes going hiking with her two dogs Beans and Potato.
URL:https://www.washingtonpassportnetwork.org/event/getting-to-gold-using-data-and-community-to-improve-student-access/
CATEGORIES:webinar
ATTACH;FMTTYPE=image/png:https://www.washingtonpassportnetwork.org/wp-content/uploads/2025/07/Passport-and-Financial-Aid-July.png
END:VEVENT
BEGIN:VEVENT
DTSTART;TZID=America/Los_Angeles:20251015T130000
DTEND;TZID=America/Los_Angeles:20251015T140000
DTSTAMP:20260422T153319
CREATED:20251204T231840Z
LAST-MODIFIED:20251205T173417Z
UID:10000274-1760533200-1760536800@www.washingtonpassportnetwork.org
SUMMARY:Best Practices for UHY Determination
DESCRIPTION:Join us for a discussion on best practices for determining unaccompanied homelessness status for students. This webinar will be led by the Passport team at WSAC\, alongside two Passport financial aid administrators. We will be revisiting the definition of unaccompanied homeless youth\, looking at recent data and trends\, discussing best practices for determination based on WSAC’s guidelines\, and looking at specific student scenarios. We hope you can join us! \n\n\n\n\nMeet our Speakers!\n\n\n\n\n\n\n\nChantel FieldsExecutive Director\, Student Financial ResourcesBellingham Technical College\n\n\n\n\n\nChantel Fields serves as Executive Director of Student Financial Resources at Bellingham Technical College\, where she leads efforts to promote equitable access to higher education and reduce financial barriers for students. With over 20 years of experience in financial aid and student services\, she is dedicated to fostering collaboration\, ethical leadership\, and innovative practices that enhance student success. Chantel has practical experience supporting Unaccompanied Homeless Youth and has presented on this topic in the past. She holds a Master of Education in Adult and Higher Education from Western Washington University and is an active volunteer and leader within Washington’s financial aid community. \n\n\n\n\n\n\n\n\n\nAngie HobbsAssistant Director\, ScholarshipsOffice of Student Financial AidUniversity of Washington\n\n\n\n\n\nAngie has worked in financial aid for a total of 18 years\, with 11 of those years at the University of Washington’s financial aid office.  Her first role at the UW was a financial aid counselor\, then a financial aid systems analyst\, and currently as the Assistant Director of Scholarships.  She has supported Passport students and collaborated with Passport staff for over 6 years.  \n\n\n\n\n\n\n\n\n\nDawn Cypriano-McAfertyAssistant Director\, Passport to CareersWashington Student Achievement Council\n\n\n\n\n\nDawn Cypriano-McAferty is serving as an Assistant Director at the Washington Student Achievement Council and is responsible for the development and implementation of the Passport to Careers and SETuP programs. \n\n\n\nDawn began working in financial aid over 25 years ago as a work-study student and continued her career at WSAC in the Educational Opportunity Grant\, WICHE\, and State Work-Study programs.  She is committed to working with campuses and community partners to develop support services for students and is especially passionate about connecting vulnerable student populations with educational resources. \n\n\n\nDawn earned her bachelor’s degree in English and Sociology at St. Martin’s University and a master’s degree in Management and Leadership from Western Governor’s University.  She resides in Rochester and enjoys spending time with her family\, reading\, participating in dog sports\, and cheering for her favorite sports teams.  \n\n\n\n\n\n\n\n\n\nStacia SchienbeinProgram Coordinator\, Passport to Careers Washington Student Achievement Council\n\n\n\n\n\nStacia Schienbein is the Passport to Careers Program Coordinator and has been with WSAC since June 2025. She is thrilled to be part of the WPN working alongside such an amazing group working to support Passport students. Her free time is spent with her husband and their two kids watching movies and playing with their Boston Terrier. She’s a lover of books\, building Lego and playing card & board games. \n\n\n\n\n\n\nWatch webinar replay
URL:https://www.washingtonpassportnetwork.org/event/best-practices-for-uhy-determination/
CATEGORIES:webinar
ATTACH;FMTTYPE=image/png:https://www.washingtonpassportnetwork.org/wp-content/uploads/2025/12/Two-presenters.png
END:VEVENT
BEGIN:VEVENT
DTSTART;TZID=America/Los_Angeles:20251203T130000
DTEND;TZID=America/Los_Angeles:20251203T140000
DTSTAMP:20260422T153319
CREATED:20251223T030551Z
LAST-MODIFIED:20251223T030552Z
UID:10000277-1764766800-1764770400@www.washingtonpassportnetwork.org
SUMMARY:WPN Webinar: Looking Ahead to the 2026 Legislative Session
DESCRIPTION:Yokiko Hayashi-Saguil\, College Success Foundation’s Director of Government Relations and Advocacy\, will be providing an overview of our state’s legislative process\, which will include a look at the different types of sessions\, ways to get involved\, and how youth can have their voices heard when advocating for specific bills. Yokiko will also be sharing about CSF’s priorities heading into the next session and will also be touching on what we can expect from measures that will impact the Passport work. \n\n\n\nMeet Our Speaker!\n\n\n\n\n\nYokiko Hayashi-SaguilDirector of Government Relations and Advocacy\, College Success Foundation\n\n\n\n\n\nYokiko Hayashi-Saguil\, College Success Foundation’s Director of Government Relations and Advocacy\, will be providing an overview of our state’s legislative process\, which will include a look at the different types of sessions\, ways to get involved\, and how youth can have their voices heard when advocating for specific bills. Yokiko will also be sharing about CSF’s priorities heading into the next session and will also be touching on what we can expect from measures that will impact the Passport work. We hope you can join us!
URL:https://www.washingtonpassportnetwork.org/event/wpn-webinar-looking-ahead-to-the-2026-legislative-session-2/
ATTACH;FMTTYPE=image/png:https://www.washingtonpassportnetwork.org/wp-content/uploads/2025/12/Yokiko-webinar.png
LOCATION:
END:VEVENT
BEGIN:VEVENT
DTSTART;TZID=America/Los_Angeles:20251219T120000
DTEND;TZID=America/Los_Angeles:20251219T130000
DTSTAMP:20260422T153319
CREATED:20251208T235628Z
LAST-MODIFIED:20251223T001110Z
UID:10000275-1766145600-1766149200@www.washingtonpassportnetwork.org
SUMMARY:Lunch & Learn Webinar: Governor's Scholarship for Foster Youth
DESCRIPTION:You’ve been invited to: \n\n\n\nCollege Success Foundation’s Governor’s Scholarship Info Session for Passport Partners! \n\n\n\n🌟 Lunch & Learn Webinar: Help Your Students Apply for the Governor’s Scholarship 🌟 \n\n\n\nThis webinar will:✅ Walk you through the Washington State Governor’s Scholarship for Foster Youth✅ Highlight additional scholarship opportunities that CSF offers ✅ Provide a hands-on tour of the application platform\, so you can confidently support your students every step of the way \n\n\n\nYour role is vital in helping students access these life-changing opportunities. Join us to get the latest details\, practical tools\, and answers to your questions. \n\n\n\n📌 Can’t make it live? No problem — a recording will be available for you to review anytime. \n\n\n\n We look forward to having you attend the event! \n\n\n\n\nMeet Our Speaker!\n\n\n\n\n\n\n\nKerrie MossProgram Officer\, Scholarships and Financial Aid EducationCollege Success Foundation\n\n\n\n\n\nKerrie is a Program Officer in the Scholarships and Financial Aid Education division at the College Success Foundation. In her role\, she helps empower students and families by providing clear\, accessible guidance on financial aid and scholarship opportunities. She collaborates with schools\, community partners\, and internal teams to develop resources and programs that strengthen students’ understanding of the financial aid process and support their journey toward higher education. \n\n\n\nPrior to joining CSF\, Kerrie served as a financial aid advisor\, where she worked directly with students to navigate federal\, state\, and institutional aid programs. Her experience in one-on-one advising strengthened her commitment to educational access and equipped her with a deep understanding of the barriers students may face when financing their education. \n\n\n\nWith a passion for equity and student success\, Kerrie brings a student-centered approach to her work and remains dedicated to helping learners confidently pursue their academic goals. \n\n\n\n\n\n\nWebinar recording
URL:https://www.washingtonpassportnetwork.org/event/lunch-learn-webinar-csfs-governors-scholarship-for-foster-youth/
CATEGORIES:Lunch and Learn,Scholarship Opportunity,webinar
ATTACH;FMTTYPE=image/png:https://www.washingtonpassportnetwork.org/wp-content/uploads/2025/12/Passport-Gov-Scholarship-1.png
END:VEVENT
BEGIN:VEVENT
DTSTART;TZID=America/Los_Angeles:20260226T130000
DTEND;TZID=America/Los_Angeles:20260226T140000
DTSTAMP:20260422T153319
CREATED:20260319T080053Z
LAST-MODIFIED:20260312T135406Z
UID:10000280-1772110800-1772114400@www.washingtonpassportnetwork.org
SUMMARY:WPN Webinar: Supporting Students Through SAP Challenges
DESCRIPTION:Join us for a conversation on Satisfactory Academic Progress (SAP)! CSF’s Regional College Access Managers will provide an overview of SAP policies for both state and federal financial aid. Passport’s campus financial aid administrators will also join the conversation to discuss how they support students who face SAP barriers.
URL:https://www.washingtonpassportnetwork.org/event/wpn-webinar-supporting-students-through-sap-challenges/
CATEGORIES:webinar
END:VEVENT
BEGIN:VEVENT
DTSTART;TZID=America/Los_Angeles:20260319T130000
DTEND;TZID=America/Los_Angeles:20260319T140000
DTSTAMP:20260422T153319
CREATED:20260312T140442Z
LAST-MODIFIED:20260312T140443Z
UID:10000281-1773925200-1773928800@www.washingtonpassportnetwork.org
SUMMARY:WPN Webinar: Supporting Students Through SAP Challenges
DESCRIPTION:Join us for a conversation on Satisfactory Academic Progress (SAP)! CSF’s Regional College Access team will provide an overview of SAP policies for both state and federal financial aid. Green River College financial aid staff will also be sharing their campus’s practices for supporting Passport students who are facing SAP barriers. \n\n\n\nPresenters: \n\n\n\nRaul Sanchez – Regional College Access Manager\, College Success Foundation \n\n\n\nBeth Hawes – Director of Financial Aid\, Green River College
URL:https://www.washingtonpassportnetwork.org/event/wpn-webinar-supporting-students-through-sap-challenges-2/
END:VEVENT
BEGIN:VEVENT
DTSTART;TZID=America/Los_Angeles:20260514T090000
DTEND;TZID=America/Los_Angeles:20260514T163000
DTSTAMP:20260422T153319
CREATED:20251217T175713Z
LAST-MODIFIED:20251217T175714Z
UID:10000276-1778749200-1778776200@www.washingtonpassportnetwork.org
SUMMARY:2026 Passport to Careers State Conference
DESCRIPTION:The annual Passport to Careers Conference returns virtually in 2026! At this one-day conference\, you’ll have an opportunity to learn from experts\, expand your professional network and enjoy the camaraderie of colleagues from across the state who are working to create educational parity for students with experience in foster care or unaccompanied homelessness.
URL:https://www.washingtonpassportnetwork.org/event/2026-passport-to-careers-state-conference/
CATEGORIES:Conference
ATTACH;FMTTYPE=image/png:https://www.washingtonpassportnetwork.org/wp-content/uploads/2025/12/Image-7-1.png
END:VEVENT
END:VCALENDAR