BEGIN:VCALENDAR
VERSION:2.0
PRODID:-//www.washingtonpassportnetwork.org - ECPv6.15.20//NONSGML v1.0//EN
CALSCALE:GREGORIAN
METHOD:PUBLISH
X-WR-CALNAME:www.washingtonpassportnetwork.org
X-ORIGINAL-URL:https://www.washingtonpassportnetwork.org
X-WR-CALDESC:Events for www.washingtonpassportnetwork.org
REFRESH-INTERVAL;VALUE=DURATION:PT1H
X-Robots-Tag:noindex
X-PUBLISHED-TTL:PT1H
BEGIN:VTIMEZONE
TZID:UTC
BEGIN:STANDARD
TZOFFSETFROM:+0000
TZOFFSETTO:+0000
TZNAME:UTC
DTSTART:20180101T000000
END:STANDARD
END:VTIMEZONE
BEGIN:VEVENT
DTSTART;TZID=UTC:20201028T103000
DTEND;TZID=UTC:20201028T114500
DTSTAMP:20260423T170529
CREATED:20201002T011239Z
LAST-MODIFIED:20201002T011239Z
UID:10000044-1603881000-1603885500@www.washingtonpassportnetwork.org
SUMMARY:Getting Unstuck: Maintaining Relationships with Students - Passport to Careers State Conference 2020
DESCRIPTION:Ever feel stuck in building or maintaining relationships with youth you are working with? The goal of the roundtable discussion is to understand why maintaining relationships with youth is critical to their success and learn from each other about how we can create meaningful connections with every student. The presenters will share times they felt “stuck” and provide strategies and ways to maintain or re-engage with students. We will focus some of the time specifically addressing how to maintain and re-engage students virtually. We will also invite attendees to share their experiences and reflect on what did and did not work. The roundtable will conclude with an activity for attendees to practice new skills and strategies. \nAt the end of the workshop\, attendees will have learned how to: \n\nRecognize the importance of maintaining relationships with students\nRecognize when a relationship with a student is “stuck” or frozen\nDevelop strategies that may help maintain relationships with students\n\nPresented by Sara Spiers and Amy Salazar of Washington State University Vancouver
URL:https://www.washingtonpassportnetwork.org/event/getting-unstuck-maintaining-relationships-with-students-passport-to-careers-state-conference-2020/
END:VEVENT
BEGIN:VEVENT
DTSTART;TZID=UTC:20201028T103000
DTEND;TZID=UTC:20201028T114500
DTSTAMP:20260423T170529
CREATED:20201002T010942Z
LAST-MODIFIED:20201002T010942Z
UID:10000043-1603881000-1603885500@www.washingtonpassportnetwork.org
SUMMARY:Diving Deeper: Working with Tribal Foster Youth - Passport to Careers State Conference 2020
DESCRIPTION:This workshop is a follow up and deeper discussion into how to best support Native students in the education system. Topics will include sovereignty\, the definition of historical trauma and the ways it shows up currently\, and different types of Tribal enrollment. \nAt the end of the workshop\, attendees will have learned how historical trauma affects Native youth – especially those in the foster care system – and how to best support Native students in Washington state. \nPresented by Kateri Joe of Treehouse and Shoshaunee Perez of Northwest Indian College.
URL:https://www.washingtonpassportnetwork.org/event/diving-deeper-working-with-tribal-foster-youth-passport-to-careers-state-conference-2020/
END:VEVENT
BEGIN:VEVENT
DTSTART;TZID=UTC:20201028T090000
DTEND;TZID=UTC:20201028T102000
DTSTAMP:20260423T170529
CREATED:20201002T001644Z
LAST-MODIFIED:20201002T001644Z
UID:10000042-1603875600-1603880400@www.washingtonpassportnetwork.org
SUMMARY:Kickoff Keynote Speech - Passport to Careers State Conference 2020
DESCRIPTION:With George Duvall. Read about George on our keynote speakers page. 
URL:https://www.washingtonpassportnetwork.org/event/kickoff-keynote-speech-passport-to-careers-state-conference-2020/
END:VEVENT
BEGIN:VEVENT
DTSTART;TZID=UTC:20200401T140000
DTEND;TZID=UTC:20200401T150000
DTSTAMP:20260423T170529
CREATED:20191204T030901Z
LAST-MODIFIED:20191204T030901Z
UID:10000036-1585749600-1585753200@www.washingtonpassportnetwork.org
SUMMARY:Webinar: Tribal Foster Youth
DESCRIPTION:
URL:https://www.washingtonpassportnetwork.org/event/webinar-8/
END:VEVENT
BEGIN:VEVENT
DTSTART;TZID=UTC:20200226T140000
DTEND;TZID=UTC:20200226T150000
DTSTAMP:20260423T170529
CREATED:20200207T065143Z
LAST-MODIFIED:20200207T065143Z
UID:10000040-1582725600-1582729200@www.washingtonpassportnetwork.org
SUMMARY:PTC Conference Workshop Proposal Support/Q+A (option 2)
DESCRIPTION:Interested in presenting at the Passport to Careers (PTC) State Conference? Have an idea\, but now sure if it will translate to the conference workshop format? Need support designing your workshop proposal?\nWe are offering 2 workshop proposal support sessions to field questions and support with workshop proposal design. \nThanks for your interest in presenting at the 2020 PTC State Conference. We look forward to brainstorming workshop ideas with you! \nPlease register to join the meeting: https://zoom.us/webinar/register/WN_Ywlu59BTTdGU_3r8APlYqQ
URL:https://www.washingtonpassportnetwork.org/event/ptc-conference-workshop-proposal-support-qa-option-2/
END:VEVENT
BEGIN:VEVENT
DTSTART;TZID=UTC:20200220T100000
DTEND;TZID=UTC:20200220T110000
DTSTAMP:20260423T170529
CREATED:20200207T065419Z
LAST-MODIFIED:20200207T065419Z
UID:10000041-1582192800-1582196400@www.washingtonpassportnetwork.org
SUMMARY:PTC Conference Workshop Proposal Support/Q+A (option 1)
DESCRIPTION:Interested in presenting at the Passport to Careers (PTC) State Conference? Have an idea\, but now sure if it will translate to the conference workshop format? Need support designing your workshop proposal?\n\n\n\nWe are offering 2 workshop proposal support sessions to field questions and support with workshop proposal design. \nThanks for your interest in presenting at the 2020 PTC State Conference. We look forward to brainstorming workshop ideas with you! \n\n\nRegister to join the meeting: https://zoom.us/webinar/register/WN_3qNWJdTjSMKuvkrH4nlHpA
URL:https://www.washingtonpassportnetwork.org/event/ptc-conference-workshop-proposal-support-qa-option-1/
END:VEVENT
BEGIN:VEVENT
DTSTART;TZID=UTC:20200212T140000
DTEND;TZID=UTC:20200212T150000
DTSTAMP:20260423T170529
CREATED:20191204T030720Z
LAST-MODIFIED:20191204T030720Z
UID:10000035-1581516000-1581519600@www.washingtonpassportnetwork.org
SUMMARY:Webinar 6: Understanding the Unique Needs of Unaccompanied Refugee Minors
DESCRIPTION:Join us to learn about foster youth in the federal Unaccompanied Refugee Minor Program and find out how they get to the U.S. and Washington State; what their unique needs are; and how they can best be supported in their educational and career journeys. \nThis webinar will describe to the audience the federally-funded Unaccompanied Refugee Minor Program\, administered by DSHS\, Catholic Community Services\, and Lutheran Community Services Northwest. Who these youth are; how they came to reside in Washington State; and what makes them eligible for the program will be covered. Additionally\, the audience will learn about the unique needs and journeys of eligible youth\, and strategies for successfully supporting them in postsecondary education. \nWebinar presenters:\nDorothy McCabe\, Catholic Community Services – Tacoma/Vancouver URM Program\nZach Reiber\, Lutheran Community Services Northwest – Spokane URM Program\nTigest Coleman\, Lutheran Community Services Northwest – Seattle URM Program \nLearning objectives of the webinar:\n1) Learn more about who unaccompanied refugee minors are – their countries of origin\, backgrounds\, and needs.\n2) Learn best practices on how to support and engage unaccompanied refugee youth\, and what some of their unique challenges are in attaining postsecondary education. \nRegister for the free webinar: https://zoom.us/webinar/register/WN_cthkA4gwRNiHNBJXaUJYcA
URL:https://www.washingtonpassportnetwork.org/event/webinar-6/
END:VEVENT
BEGIN:VEVENT
DTSTART;TZID=UTC:20200129T140000
DTEND;TZID=UTC:20200129T150000
DTSTAMP:20260423T170529
CREATED:20191204T030558Z
LAST-MODIFIED:20191204T030558Z
UID:10000034-1580306400-1580310000@www.washingtonpassportnetwork.org
SUMMARY:Webinar 5: Medicaid Benefits for Youth in/Alumni of Care
DESCRIPTION:On April 1\, 2016 Coordinated Care became the Managed Care Program for all foster\, alumni\, and adopted youth. On January 1st\, 2019\, behavioral health and substance use disorder treatment was integrated into the program. This program\, known as Apple Heath Core Connections (AHCC)\, serves children and youth in foster care and adoption support as well as alumni of foster care (ages 18-26). \nJoin this webinar to learn how to access and use covered physical and behavioral health services. Attendess will also learn the added benefits for Apple Health Core Connections members. \nFollowing this presentation\, participants will:\n1. Know how to connect a youth to Coordinated Care if the youth needs assistance navigating the healthcare system.\n2. Be able to identify what physical and behavioral health services are available to alumni of foster care. \nRegister for the free webinar: https://zoom.us/webinar/register/WN_P-TaRWICSBWbyG2hjKXXJg
URL:https://www.washingtonpassportnetwork.org/event/webinar-5/
END:VEVENT
BEGIN:VEVENT
DTSTART;TZID=UTC:20200122T100000
DTEND;TZID=UTC:20200122T133000
DTSTAMP:20260423T170529
CREATED:20200107T072100Z
LAST-MODIFIED:20200107T072100Z
UID:10000039-1579687200-1579699800@www.washingtonpassportnetwork.org
SUMMARY:Eastern Regional Service Coordination Meeting
DESCRIPTION:
URL:https://www.washingtonpassportnetwork.org/event/eastern-regional-service-coordination-meeting/
END:VEVENT
BEGIN:VEVENT
DTSTART;TZID=UTC:20200116T140000
DTEND;TZID=UTC:20200116T160000
DTSTAMP:20260423T170529
CREATED:20200107T072004Z
LAST-MODIFIED:20200107T072004Z
UID:10000038-1579183200-1579190400@www.washingtonpassportnetwork.org
SUMMARY:Yakima Regional Meeting
DESCRIPTION:
URL:https://www.washingtonpassportnetwork.org/event/yakima-regional-meeting/
END:VEVENT
BEGIN:VEVENT
DTSTART;TZID=UTC:20200116T100000
DTEND;TZID=UTC:20200116T120000
DTSTAMP:20260423T170529
CREATED:20200107T071905Z
LAST-MODIFIED:20200107T071905Z
UID:10000037-1579168800-1579176000@www.washingtonpassportnetwork.org
SUMMARY:Richland Regional Service Coordination Meeting
DESCRIPTION:
URL:https://www.washingtonpassportnetwork.org/event/richland-regional-service-coordination-meeting/
END:VEVENT
BEGIN:VEVENT
DTSTART;TZID=UTC:20200115T140000
DTEND;TZID=UTC:20200115T150000
DTSTAMP:20260423T170529
CREATED:20191204T030412Z
LAST-MODIFIED:20191204T030412Z
UID:10000033-1579096800-1579100400@www.washingtonpassportnetwork.org
SUMMARY:Webinar 4: Apprenticeship Pathway
DESCRIPTION:
URL:https://www.washingtonpassportnetwork.org/event/webinar-4/
END:VEVENT
BEGIN:VEVENT
DTSTART;TZID=UTC:20191204T140000
DTEND;TZID=UTC:20191204T150000
DTSTAMP:20260423T170529
CREATED:20191204T030211Z
LAST-MODIFIED:20191204T030211Z
UID:10000032-1575468000-1575471600@www.washingtonpassportnetwork.org
SUMMARY:WPN Webinar 3 - Housing Rights for Youth: Helping young adults navigate the world of rentals\, roommates\, and responsibilities
DESCRIPTION:Join us for a webinar presented by Laurel Simonsen (Managing Attorney at the Center for Children & Youth Justice) to learn about landlord/tenant law in Washington State and how you can support young people as they transition into independent living.\n\nRegister for the Webinar: https://zoom.us/webinar/register/WN_MUiHqPzuRUS0jG15f6vosA
URL:https://www.washingtonpassportnetwork.org/event/wpn-webinar-3-housing-rights-for-youth-helping-young-adults-navigate-the-world-of-rentals-roommates-and-responsibilities/
END:VEVENT
BEGIN:VEVENT
DTSTART;TZID=UTC:20191121T100000
DTEND;TZID=UTC:20191121T120000
DTSTAMP:20260423T170529
CREATED:20191120T080626Z
LAST-MODIFIED:20191120T080626Z
UID:10000030-1574330400-1574337600@www.washingtonpassportnetwork.org
SUMMARY:Yakima Regional Service Coordination Group Meeting
DESCRIPTION:
URL:https://www.washingtonpassportnetwork.org/event/yakima-regional-service-coordination-group-meeting/
END:VEVENT
BEGIN:VEVENT
DTSTART;TZID=UTC:20191120T130000
DTEND;TZID=UTC:20191120T140000
DTSTAMP:20260423T170529
CREATED:20191120T080912Z
LAST-MODIFIED:20191120T080912Z
UID:10000031-1574254800-1574258400@www.washingtonpassportnetwork.org
SUMMARY:PTC Conference Keynote
DESCRIPTION:
URL:https://www.washingtonpassportnetwork.org/event/ptc-conference-keynote/
END:VEVENT
BEGIN:VEVENT
DTSTART;TZID=UTC:20191114T100000
DTEND;TZID=UTC:20191114T140000
DTSTAMP:20260423T170529
CREATED:20191031T025216Z
LAST-MODIFIED:20191031T025216Z
UID:10000029-1573725600-1573740000@www.washingtonpassportnetwork.org
SUMMARY:Eastern Regional Meeting Meeting #2
DESCRIPTION:
URL:https://www.washingtonpassportnetwork.org/event/eastern-regional-meeting-meeting-2/
LOCATION:Washington State University\, Pullman\, Washington
END:VEVENT
BEGIN:VEVENT
DTSTART;TZID=UTC:20191113T140000
DTEND;TZID=UTC:20191113T150000
DTSTAMP:20260423T170529
CREATED:20191018T052050Z
LAST-MODIFIED:20191018T052050Z
UID:10000027-1573653600-1573657200@www.washingtonpassportnetwork.org
SUMMARY:Webinar #2: Passport Expansion Unaccompanied Homeless Youth Part 2
DESCRIPTION:Beginning July 2019\, the Passport to Careers eligibility expanded to include unaccompanied homeless youth. Join us for part 2 of the webinar to learn about: \n\nAwarding practice and process from Financial Aid offices\, 2-year and 4-year\nRe-verification\n\nRegister in advance: zoom.us/webinar/register/WN_P8hBGXm0TyK2RqSMrO2wyQ
URL:https://www.washingtonpassportnetwork.org/event/webinar-2-passport-expansion-unaccompanied-homeless-youth-part-2/
END:VEVENT
BEGIN:VEVENT
DTSTART;TZID=UTC:20191106T140000
DTEND;TZID=UTC:20191106T150000
DTSTAMP:20260423T170529
CREATED:20191018T042208Z
LAST-MODIFIED:20191018T042208Z
UID:10000026-1573048800-1573052400@www.washingtonpassportnetwork.org
SUMMARY:Webinar #1: Passport Expansion Unaccompanied Homeless Youth Part 1
DESCRIPTION:Beginning July 2019\, the Passport to Careers eligibility expanded to include unaccompanied homeless youth. Part 1 of the webinar will address: \n\nDefinition for unaccompanied homeless youth\nIdentification\nSteps students must take to verify eligibility\n\nRegister for the webinar: zoom.us/webinar/register/WN_UHjTp79tTCOK_mOxznj8bw
URL:https://www.washingtonpassportnetwork.org/event/webinar-1-passport-expansion-unaccompanied-homeless-youth-part-1/
END:VEVENT
BEGIN:VEVENT
DTSTART;TZID=UTC:20191028T080000
DTEND;TZID=UTC:20191029T170000
DTSTAMP:20260423T170529
CREATED:20191031T024733Z
LAST-MODIFIED:20191031T024733Z
UID:10000028-1572249600-1572368400@www.washingtonpassportnetwork.org
SUMMARY:2019 Blueprint for Success Conference
DESCRIPTION:Washington Passport Network members will be attending the 2019 Blueprint Conference in California. \nhttp://www.cacollegepathways.org/blueprint-conference-registration-open-dont-miss-out/
URL:https://www.washingtonpassportnetwork.org/event/2019-blueprint-for-success-conference/
END:VEVENT
BEGIN:VEVENT
DTSTART;TZID=UTC:20190515T000000
DTEND;TZID=UTC:20190516T235959
DTSTAMP:20260423T170529
CREATED:20181004T222609Z
LAST-MODIFIED:20181004T222609Z
UID:10000013-1557878400-1558051199@www.washingtonpassportnetwork.org
SUMMARY:2019 Passport to College State Conference
DESCRIPTION:The Passport the College State Conference will return to the University of Washington – Tacoma campus in May. More information on the two days of programming\, speakers\, breakout sessions\, and registration will follow in the coming months.
URL:https://www.washingtonpassportnetwork.org/event/2019-passport-to-college-state-conference/
END:VEVENT
BEGIN:VEVENT
DTSTART;TZID=UTC:20190508T140000
DTEND;TZID=UTC:20190508T150000
DTSTAMP:20260423T170529
CREATED:20181213T040017Z
LAST-MODIFIED:20181213T040017Z
UID:10000024-1557324000-1557327600@www.washingtonpassportnetwork.org
SUMMARY:Webinar # 11 - PTC Updates: Tribal\, URM\, and Unaccompanied Homeless Students
DESCRIPTION:
URL:https://www.washingtonpassportnetwork.org/event/webinar-11-ptc-updates-tribal-urm-and-unaccompanied-homeless-students/
END:VEVENT
BEGIN:VEVENT
DTSTART;TZID=UTC:20190424T140000
DTEND;TZID=UTC:20190424T150000
DTSTAMP:20260423T170529
CREATED:20181213T035811Z
LAST-MODIFIED:20181213T035811Z
UID:10000023-1556114400-1556118000@www.washingtonpassportnetwork.org
SUMMARY:Webinar # 10 - Sexual Health in Foster Care\, Presented by Coordinated Care
DESCRIPTION:
URL:https://www.washingtonpassportnetwork.org/event/webinar-10-sexual-health-in-foster-care-presented-by-coordinated-care/
END:VEVENT
BEGIN:VEVENT
DTSTART;TZID=UTC:20190415T090000
DTEND;TZID=UTC:20190415T150000
DTSTAMP:20260423T170529
CREATED:20180925T231618Z
LAST-MODIFIED:20180925T231618Z
UID:10000010-1555318800-1555340400@www.washingtonpassportnetwork.org
SUMMARY:PLT meeting # 4
DESCRIPTION:This is the fourth of four Passport Leadership Team meetings. Agenda details will be posted after the third meeting of the year is held on 2/25/19.
URL:https://www.washingtonpassportnetwork.org/event/plt-meeting-4/
LOCATION:Pacific Tower\, 1200 12th Ave. South\, Seattle\, WA\, 98144\, United States
ORGANIZER;CN="Fred Kingston":MAILTO:fkingston@collegesuccessfoundation.org
END:VEVENT
BEGIN:VEVENT
DTSTART;TZID=UTC:20190410T140000
DTEND;TZID=UTC:20190410T150000
DTSTAMP:20260423T170529
CREATED:20181213T035537Z
LAST-MODIFIED:20181213T035537Z
UID:10000022-1554904800-1554908400@www.washingtonpassportnetwork.org
SUMMARY:Webinar # 9 - PTC Incentive Grant Funding Best Practices
DESCRIPTION:
URL:https://www.washingtonpassportnetwork.org/event/webinar-8-ptc-incentive-grant-funding-best-practices/
END:VEVENT
BEGIN:VEVENT
DTSTART;TZID=UTC:20190320T140000
DTEND;TZID=UTC:20190320T150000
DTSTAMP:20260423T170529
CREATED:20181213T035247Z
LAST-MODIFIED:20181213T035247Z
UID:10000021-1553090400-1553094000@www.washingtonpassportnetwork.org
SUMMARY:Webinar # 8 - Healthcare Insurance & Resources for Foster Youth & Alumni\, presented by Coordinated Care
DESCRIPTION:
URL:https://www.washingtonpassportnetwork.org/event/webinar-8-healthcare-insurance-resources-for-foster-youth-alumni-presented-by-coordinated-care/
END:VEVENT
BEGIN:VEVENT
DTSTART;TZID=UTC:20190225T090000
DTEND;TZID=UTC:20190225T150000
DTSTAMP:20260423T170529
CREATED:20180925T231408Z
LAST-MODIFIED:20180925T231408Z
UID:10000009-1551085200-1551106800@www.washingtonpassportnetwork.org
SUMMARY:PLT Meeting # 3
DESCRIPTION:This is the third of four Passport Leadership Team meetings. Agenda details will be posted after the second meeting of the year has been held on 12/3/18.
URL:https://www.washingtonpassportnetwork.org/event/plt-meeting-3/
LOCATION:Pacific Tower\, 1200 12th Ave. South\, Seattle\, WA\, 98144\, United States
ORGANIZER;CN="Fred Kingston":MAILTO:fkingston@collegesuccessfoundation.org
END:VEVENT
BEGIN:VEVENT
DTSTART;TZID=UTC:20190220T140000
DTEND;TZID=UTC:20190220T150000
DTSTAMP:20260423T170529
CREATED:20181213T034957Z
LAST-MODIFIED:20181213T034957Z
UID:10000020-1550671200-1550674800@www.washingtonpassportnetwork.org
SUMMARY:Webinar # 7 - PTC Apprenticeship Opportunities Pathway
DESCRIPTION:
URL:https://www.washingtonpassportnetwork.org/event/webinar-7-ptc-apprenticeship-opportunities-pathway/
END:VEVENT
BEGIN:VEVENT
DTSTART;TZID=UTC:20190206T140000
DTEND;TZID=UTC:20190206T150000
DTSTAMP:20260423T170529
CREATED:20181213T034618Z
LAST-MODIFIED:20181213T034618Z
UID:10000019-1549461600-1549465200@www.washingtonpassportnetwork.org
SUMMARY:Webinar # 6 - Resiliency\, Presented by Coordinated Care
DESCRIPTION:
URL:https://www.washingtonpassportnetwork.org/event/webinar-6-resiliency-presented-by-coordinated-care/
END:VEVENT
BEGIN:VEVENT
DTSTART;TZID=UTC:20190123T140000
DTEND;TZID=UTC:20190123T150000
DTSTAMP:20260423T170529
CREATED:20181208T061635Z
LAST-MODIFIED:20181208T061635Z
UID:10000018-1548252000-1548255600@www.washingtonpassportnetwork.org
SUMMARY:Webinar # 5 - PTC Student Eligibility
DESCRIPTION:During the 2018 legislative session SB 6274 greatly expanded PTC by broadening eligibility criteria. This webinar will address changing eligibility and attendees will learn: \n1. New eligibility criteria for foster youth as of July 1\, 2018.\n2. New eligibility for unaccompanied homeless youth starting July 1\, 2019.\n3. Phased eligibility expansion between 2018-2020.\n4. The apprenticeship opportunity pathway.\n5. Steps students must take to verify eligibility.  \nThis is a public webinar. Feel free to forward the registration link to your colleagues. \nLink: https://zoom.us/webinar/register/WN_ddvXs1rjRF-eAhC08VALdA
URL:https://www.washingtonpassportnetwork.org/event/webinar-5-ptc-student-eligibility/
END:VEVENT
BEGIN:VEVENT
DTSTART;TZID=UTC:20190109T140000
DTEND;TZID=UTC:20190109T160000
DTSTAMP:20260423T170529
CREATED:20181208T061357Z
LAST-MODIFIED:20181208T061357Z
UID:10000017-1547042400-1547049600@www.washingtonpassportnetwork.org
SUMMARY:Webinar # 4 - Trauma Informed Care\, Presented by Coordinated Care
DESCRIPTION:Trauma Informed Care – Presented By Coordinated Care \nTrauma informed care (TIC) means seeing the whole person and taking into account past trauma\, and resulting coping mechanisms\, when attempting to understand behaviors and provide support to students. TIC basics are essential tools for those who work with students from foster care. This 2-hour training will cover TIC fundamentals and attendees will learn about:  \n1. The types of trauma\n2. The effects of trauma\n3. Common reactions to trauma reminders\n4. The role of resilience\n5. Self care for professionals \nThe training will be tailored to be relevant for professionals working in post-secondary access and post-secondary success environments.  \nThis training is open to the public. Feel free to forward the registration link to your colleagues. \nLink: https://zoom.us/webinar/register/WN_7f1eWDNFT_uhanDOFQ1Kew
URL:https://www.washingtonpassportnetwork.org/event/webinar-4-trauma-informed-care-presented-by-coordinated-care/
ORGANIZER;CN="Fred Kingston":MAILTO:fkingston@collegesuccessfoundation.org
END:VEVENT
END:VCALENDAR