BEGIN:VCALENDAR
VERSION:2.0
PRODID:-//www.washingtonpassportnetwork.org - ECPv6.15.20//NONSGML v1.0//EN
CALSCALE:GREGORIAN
METHOD:PUBLISH
X-WR-CALNAME:www.washingtonpassportnetwork.org
X-ORIGINAL-URL:https://www.washingtonpassportnetwork.org
X-WR-CALDESC:Events for www.washingtonpassportnetwork.org
REFRESH-INTERVAL;VALUE=DURATION:PT1H
X-Robots-Tag:noindex
X-PUBLISHED-TTL:PT1H
BEGIN:VTIMEZONE
TZID:America/Los_Angeles
BEGIN:DAYLIGHT
TZOFFSETFROM:-0800
TZOFFSETTO:-0700
TZNAME:PDT
DTSTART:20220313T100000
END:DAYLIGHT
BEGIN:STANDARD
TZOFFSETFROM:-0700
TZOFFSETTO:-0800
TZNAME:PST
DTSTART:20221106T090000
END:STANDARD
BEGIN:DAYLIGHT
TZOFFSETFROM:-0800
TZOFFSETTO:-0700
TZNAME:PDT
DTSTART:20230312T100000
END:DAYLIGHT
BEGIN:STANDARD
TZOFFSETFROM:-0700
TZOFFSETTO:-0800
TZNAME:PST
DTSTART:20231105T090000
END:STANDARD
BEGIN:DAYLIGHT
TZOFFSETFROM:-0800
TZOFFSETTO:-0700
TZNAME:PDT
DTSTART:20240310T100000
END:DAYLIGHT
BEGIN:STANDARD
TZOFFSETFROM:-0700
TZOFFSETTO:-0800
TZNAME:PST
DTSTART:20241103T090000
END:STANDARD
BEGIN:DAYLIGHT
TZOFFSETFROM:-0800
TZOFFSETTO:-0700
TZNAME:PDT
DTSTART:20250309T100000
END:DAYLIGHT
BEGIN:STANDARD
TZOFFSETFROM:-0700
TZOFFSETTO:-0800
TZNAME:PST
DTSTART:20251102T090000
END:STANDARD
END:VTIMEZONE
BEGIN:VEVENT
DTSTART;TZID=America/Los_Angeles:20240819T090000
DTEND;TZID=America/Los_Angeles:20240819T133000
DTSTAMP:20260421T192854
CREATED:20240813T230154Z
LAST-MODIFIED:20240813T230154Z
UID:10000228-1724058000-1724074200@www.washingtonpassportnetwork.org
SUMMARY:Passport Leadership Team Q1 Meeting
DESCRIPTION:Quarterly Passport Leadership Team meetings are open to all members of the PLT. Composed of a cross-sector of student-support practitioners and stakeholders from across the state\, the PLT is dedicated to enhancing the program design\, implementation and quality of the Passport to Careers program. Specific agenda items will be shared with attendees prior to the meeting. To learn more\, contact passport@collegesuccessfoundation.org.
URL:https://www.washingtonpassportnetwork.org/event/passport-leadership-team-q1-meeting/
LOCATION:Pacific Tower\, 1200 12th Ave. South\, Seattle\, WA\, 98144\, United States
CATEGORIES:Leadership Team
END:VEVENT
BEGIN:VEVENT
DTSTART;TZID=America/Los_Angeles:20240514T143000
DTEND;TZID=America/Los_Angeles:20240514T160000
DTSTAMP:20260421T192854
CREATED:20230706T214648Z
LAST-MODIFIED:20230706T214648Z
UID:10000195-1715697000-1715702400@www.washingtonpassportnetwork.org
SUMMARY:Eastern Regional Passport Group Meeting - virtual
DESCRIPTION:If you are interested in learning more\, please email us at passport@collegesuccessfoundation.org.
URL:https://www.washingtonpassportnetwork.org/event/eastern-regional-passport-group-meeting-virtual-4/
CATEGORIES:Regional Passport Group
END:VEVENT
BEGIN:VEVENT
DTSTART;TZID=America/Los_Angeles:20240514T090000
DTEND;TZID=America/Los_Angeles:20240514T163000
DTSTAMP:20260421T192854
CREATED:20231103T210828Z
LAST-MODIFIED:20231103T210828Z
UID:10000223-1715677200-1715704200@www.washingtonpassportnetwork.org
SUMMARY:2024 Passport to Careers State Conference
DESCRIPTION:You won’t want to miss this annual opportunity to grow your professional network\, learn from experts and enjoy the camaraderie of other caring adults who are working to create educational parity for students with experience in foster care or unaccompanied homelessness. \n[button link=”https://www.784f4b0c48.nxcli.io/2024-conference/”] Get more information[/button]
URL:https://www.washingtonpassportnetwork.org/event/2024-passport-to-careers-state-conference/
LOCATION:Virtual\, United States
CATEGORIES:Conference
END:VEVENT
BEGIN:VEVENT
DTSTART;TZID=America/Los_Angeles:20240509T110000
DTEND;TZID=America/Los_Angeles:20240509T123000
DTSTAMP:20260421T192854
CREATED:20230706T231034Z
LAST-MODIFIED:20230706T231034Z
UID:10000200-1715252400-1715257800@www.washingtonpassportnetwork.org
SUMMARY:Western Regional Passport Group Meeting - virtual
DESCRIPTION:If you are interested in learning more\, please email us at passport@collegesuccessfoundation.org.
URL:https://www.washingtonpassportnetwork.org/event/western-regional-passport-group-meeting-virtual-4/
CATEGORIES:Regional Passport Group
END:VEVENT
BEGIN:VEVENT
DTSTART;TZID=America/Los_Angeles:20240502T123000
DTEND;TZID=America/Los_Angeles:20240502T140000
DTSTAMP:20260421T192854
CREATED:20230706T232105Z
LAST-MODIFIED:20230706T232105Z
UID:10000210-1714653000-1714658400@www.washingtonpassportnetwork.org
SUMMARY:Pierce Kitsap Regional Passport Meeting- in person
DESCRIPTION:If you are interested in learning more\, please email us at passport@collegesuccessfoundation.org.
URL:https://www.washingtonpassportnetwork.org/event/pierce-kitsap-regional-passport-meeting-virtual-2/
LOCATION:Catholic Community Services\, 7050 S G St\,\, Tacoma\, WA\, 98408\, United States
CATEGORIES:Regional Passport Group
END:VEVENT
BEGIN:VEVENT
DTSTART;TZID=America/Los_Angeles:20240422T090000
DTEND;TZID=America/Los_Angeles:20240422T113000
DTSTAMP:20260421T192854
CREATED:20230706T214105Z
LAST-MODIFIED:20230706T214105Z
UID:10000190-1713776400-1713785400@www.washingtonpassportnetwork.org
SUMMARY:Passport Leadership Team Meeting - virtual
DESCRIPTION:If you are interested in learning more\, please email us at passport@collegesuccessfoundation.org.
URL:https://www.washingtonpassportnetwork.org/event/passport-leadership-team-meeting-virtual-2/
CATEGORIES:Leadership Team
END:VEVENT
BEGIN:VEVENT
DTSTART;TZID=America/Los_Angeles:20240415T110000
DTEND;TZID=America/Los_Angeles:20240415T140000
DTSTAMP:20260421T192854
CREATED:20230706T231702Z
LAST-MODIFIED:20230706T231702Z
UID:10000205-1713178800-1713189600@www.washingtonpassportnetwork.org
SUMMARY:South Central Regional Passport Group Meeting - in person
DESCRIPTION:If you are interested in learning more\, please email us at passport@collegesuccessfoundation.org.
URL:https://www.washingtonpassportnetwork.org/event/south-central-regional-passport-group-meeting-in-person-2/
LOCATION:Cental Washington University\, 400 E. University Way\, Ellensburg\, WA\, 98926\, United States
CATEGORIES:Regional Passport Group
END:VEVENT
BEGIN:VEVENT
DTSTART;TZID=America/Los_Angeles:20240326T180000
DTEND;TZID=America/Los_Angeles:20240326T190000
DTSTAMP:20260421T192854
CREATED:20230629T181453Z
LAST-MODIFIED:20230629T181453Z
UID:10000186-1711476000-1711479600@www.washingtonpassportnetwork.org
SUMMARY:Webinar: Financial Aid Award Letters- for Students and Families
DESCRIPTION:Come and learn to better understand your financial aid award offer\, provide you with tools to assess true affordability\, and strategies to address too much unmet need. \nPresented by College Success Foundation \n[button link=”https://events.teams.microsoft.com/event/03ff6625-4a15-4d63-babe-56331724dd4a@4c3d249e-8851-4e66-92de-6e7e266aae97″ newwindow=”yes”] Register[/button]
URL:https://www.washingtonpassportnetwork.org/event/webinar-financial-aid-award-letters-for-students-and-families/
CATEGORIES:webinar
END:VEVENT
BEGIN:VEVENT
DTSTART;TZID=America/Los_Angeles:20240325T100000
DTEND;TZID=America/Los_Angeles:20240325T113000
DTSTAMP:20260421T192854
CREATED:20230628T223717Z
LAST-MODIFIED:20230628T223717Z
UID:10000171-1711360800-1711366200@www.washingtonpassportnetwork.org
SUMMARY:Webinar: Financial Aid Award Letters- for Staff
DESCRIPTION:This webinar will explore the anatomy of award letters\, provide tools to help students assess true affordability\, and strategies to address too much unmet need. It includes case studies.\nRecommended for all levels. \nPresented by College Success Foundation \n[button link=”https://events.teams.microsoft.com/event/b716a2a3-702e-4961-91ea-e30bbbc826a4@4c3d249e-8851-4e66-92de-6e7e266aae97″ newwindow=”yes”] Register[/button]
URL:https://www.washingtonpassportnetwork.org/event/webinar-financial-aid-award-letters-for-staff/
CATEGORIES:webinar
END:VEVENT
BEGIN:VEVENT
DTSTART;TZID=America/Los_Angeles:20240312T120000
DTEND;TZID=America/Los_Angeles:20240312T133000
DTSTAMP:20260421T192854
CREATED:20230706T214610Z
LAST-MODIFIED:20230706T214610Z
UID:10000194-1710244800-1710250200@www.washingtonpassportnetwork.org
SUMMARY:Eastern Regional Passport Group Meeting - in person
DESCRIPTION:If you are interested in learning more\, please email us at passport@collegesuccessfoundation.org.
URL:https://www.washingtonpassportnetwork.org/event/eastern-regional-passport-group-meeting-virtual-3/
CATEGORIES:Regional Passport Group
END:VEVENT
BEGIN:VEVENT
DTSTART;TZID=America/Los_Angeles:20240307T110000
DTEND;TZID=America/Los_Angeles:20240307T123000
DTSTAMP:20260421T192854
CREATED:20240111T024517Z
LAST-MODIFIED:20240111T024517Z
UID:10000227-1709809200-1709814600@www.washingtonpassportnetwork.org
SUMMARY:The Journey Continues\, We Got You College & Career Resource Fair
DESCRIPTION:Please join us for the fourth annual The Journey Continues – We Got You! a virtual College and Career Resource Fair for Passport to Careers eligible students. This is an opportunity to meet representatives at the local colleges and get your questions answered about college\, apprenticeships\, financial aid\, scholarships\, and resources specifically for students who have experienced foster care or unaccompanied homelessness. \nThe event is intended for high school juniors and seniors from the Northwest Coastal area with experience in foster care or unaccompanied homelessness (without a parent or guardian)\, but all are welcome! Providers are also encouraged to attend. \nRegister in advance for this event: \nhttps://us02web.zoom.us/meeting/register/tZYodOmsqDMoG9TrLRR4Aw1QQlsySAynhdsG \nAfter registering\, you will receive a confirmation email containing information about joining the meeting.
URL:https://www.washingtonpassportnetwork.org/event/the-journey-continues-we-got-you-college-career-resource-fair/
LOCATION:Zoom
CATEGORIES:Regional Passport Group
END:VEVENT
BEGIN:VEVENT
DTSTART;TZID=America/Los_Angeles:20240226T100000
DTEND;TZID=America/Los_Angeles:20240226T160000
DTSTAMP:20260421T192854
CREATED:20230706T214023Z
LAST-MODIFIED:20230706T214023Z
UID:10000189-1708941600-1708963200@www.washingtonpassportnetwork.org
SUMMARY:Passport Leadership Team Meeting - in person
DESCRIPTION:If you are interested in learning more\, please email us at passport@collegesuccessfoundation.org.
URL:https://www.washingtonpassportnetwork.org/event/passport-leadership-team-meeting-in-person-2/
CATEGORIES:Leadership Team
END:VEVENT
BEGIN:VEVENT
DTSTART;TZID=America/Los_Angeles:20240222T110000
DTEND;TZID=America/Los_Angeles:20240222T123000
DTSTAMP:20260421T192854
CREATED:20230706T231558Z
LAST-MODIFIED:20230706T231558Z
UID:10000204-1708599600-1708605000@www.washingtonpassportnetwork.org
SUMMARY:South Central Regional Passport Group Meeting- virtual
DESCRIPTION:If you are interested in learning more\, please email us at passport@collegesuccessfoundation.org.
URL:https://www.washingtonpassportnetwork.org/event/south-central-regional-passport-group-meeting-virtual-4/
CATEGORIES:Regional Passport Group
END:VEVENT
BEGIN:VEVENT
DTSTART;TZID=America/Los_Angeles:20240220T180000
DTEND;TZID=America/Los_Angeles:20240220T190000
DTSTAMP:20260421T192854
CREATED:20230629T181222Z
LAST-MODIFIED:20230629T181222Z
UID:10000185-1708452000-1708455600@www.washingtonpassportnetwork.org
SUMMARY:Webinar: Student Loans- for Students and Families
DESCRIPTION:This webinar is a deep dive into different types of loans\, connects borrowing to career decisions\, addresses consequences for nonpayment\, and provides tools to develop individual borrowing plans. \nPresented by College Success Foundation \n[button link=”https://events.teams.microsoft.com/event/a59d64b3-5b60-4bd8-89ab-5c1553628d21@4c3d249e-8851-4e66-92de-6e7e266aae97″] Register[/button]
URL:https://www.washingtonpassportnetwork.org/event/webinar-student-loans-for-students-and-families/
CATEGORIES:webinar
END:VEVENT
BEGIN:VEVENT
DTSTART;TZID=America/Los_Angeles:20240213T110000
DTEND;TZID=America/Los_Angeles:20240213T123000
DTSTAMP:20260421T192854
CREATED:20230706T232022Z
LAST-MODIFIED:20230706T232022Z
UID:10000209-1707822000-1707827400@www.washingtonpassportnetwork.org
SUMMARY:Pierce Kitsap Regional Passport Meeting- virtual
DESCRIPTION:If you are interested in learning more\, please email us at passport@collegesuccessfoundation.org.
URL:https://www.washingtonpassportnetwork.org/event/pierce-kitsap-regional-passport-meeting-virtual/
CATEGORIES:Regional Passport Group
END:VEVENT
BEGIN:VEVENT
DTSTART;TZID=America/Los_Angeles:20240212T100000
DTEND;TZID=America/Los_Angeles:20240212T233000
DTSTAMP:20260421T192854
CREATED:20230628T223520Z
LAST-MODIFIED:20230628T223520Z
UID:10000170-1707732000-1707780600@www.washingtonpassportnetwork.org
SUMMARY:Webinar: Student Loans- for Staff
DESCRIPTION:This webinar is a deep dive into different types of loans\, connects borrowing to career decisions\, addresses consequences for nonpayment\, and provides tools to develop individual borrowing plans.\nRecommended for all levels \nPresented by College Success Foundation \n[button link=”https://events.teams.microsoft.com/event/901b26ff-ae3f-4f28-a763-ecba773bd305@4c3d249e-8851-4e66-92de-6e7e266aae97″ newwindow=”yes”] Register[/button]
URL:https://www.washingtonpassportnetwork.org/event/webinar-student-loans-for-staff/
CATEGORIES:webinar
END:VEVENT
BEGIN:VEVENT
DTSTART;TZID=America/Los_Angeles:20240208T123000
DTEND;TZID=America/Los_Angeles:20240208T140000
DTSTAMP:20260421T192854
CREATED:20230706T231935Z
LAST-MODIFIED:20230706T231935Z
UID:10000208-1707395400-1707400800@www.washingtonpassportnetwork.org
SUMMARY:Pierce Kitsap Regional Passport Group Meeting - virtual
DESCRIPTION:If you are interested in learning more\, please email us at passport@collegesuccessfoundation.org.
URL:https://www.washingtonpassportnetwork.org/event/pierce-kitsap-regional-passport-group-meeting-virtual-2/
CATEGORIES:Regional Passport Group
END:VEVENT
BEGIN:VEVENT
DTSTART;TZID=America/Los_Angeles:20240208T110000
DTEND;TZID=America/Los_Angeles:20240208T123000
DTSTAMP:20260421T192854
CREATED:20230706T230952Z
LAST-MODIFIED:20230706T230952Z
UID:10000199-1707390000-1707395400@www.washingtonpassportnetwork.org
SUMMARY:Western Regional Passport Group Meeting - virtual
DESCRIPTION:If you are interested in learning more\, please email us at passport@collegesuccessfoundation.org.
URL:https://www.washingtonpassportnetwork.org/event/western-regional-passport-group-meeting-virtual-3/
CATEGORIES:Regional Passport Group
END:VEVENT
BEGIN:VEVENT
DTSTART;TZID=America/Los_Angeles:20240123T143000
DTEND;TZID=America/Los_Angeles:20240123T160000
DTSTAMP:20260421T192854
CREATED:20230706T214530Z
LAST-MODIFIED:20230706T214530Z
UID:10000193-1706020200-1706025600@www.washingtonpassportnetwork.org
SUMMARY:Eastern Regional Passport Group Meeting - virtual
DESCRIPTION:If you are interested in learning more\, please email us at passport@collegesuccessfoundation.org.
URL:https://www.washingtonpassportnetwork.org/event/eastern-regional-passport-group-meeting-virtual-2/
CATEGORIES:Regional Passport Group
END:VEVENT
BEGIN:VEVENT
DTSTART;TZID=America/Los_Angeles:20240123T100000
DTEND;TZID=America/Los_Angeles:20240123T113000
DTSTAMP:20260421T192854
CREATED:20240105T194442Z
LAST-MODIFIED:20240105T194442Z
UID:10000226-1706004000-1706009400@www.washingtonpassportnetwork.org
SUMMARY:Region 2 (South Central) Training: Post-secondary Resources for Students in Foster Care and Unaccompanied Homeless Youth
DESCRIPTION:Join the Washington Passport Network for online training on post-secondary resources for students in foster care and young people experiencing homelessness without a parent or guardian. This training is designed for providers in South Central/Region 2 (Kittitas\, Yakima\, Benton\, Franklin\, Walla Walla\, Klickitat\, Columbia) including DCYF caseworkers\, OSPI foster care and McKinney-Vento liaisons\, high school career and guidance counselors\, and community-based partners. \nThe training will highlight: \n\nCollege scholarship and apprenticeship options\, including the Passport to Careers program\nEducation and Training Voucher (ETV) program\nIntroduction to the Washington Passport Network – a network for the providers who work with youth in foster care or youth experiencing homelessness. Representatives from local community colleges and universities that support Passport to Careers students will be online to introduce themselves.\n\n[button link=”https://us02web.zoom.us/meeting/register/tZclde-spjIvEtIQHt5eR_DpAr9xC7ZvpT9d ” type=”big” newwindow=”yes”] REGISTER[/button] \n 
URL:https://www.washingtonpassportnetwork.org/event/region-2-south-central-training-post-secondary-resources-for-students-in-foster-care-and-unaccompanied-homeless-youth-2/
CATEGORIES:Regional Passport Group
END:VEVENT
BEGIN:VEVENT
DTSTART;TZID=America/Los_Angeles:20240117T130000
DTEND;TZID=America/Los_Angeles:20240117T140000
DTSTAMP:20260421T192854
CREATED:20231207T182652Z
LAST-MODIFIED:20231207T182652Z
UID:10000225-1705496400-1705500000@www.washingtonpassportnetwork.org
SUMMARY:WPN Webinar: Basic Needs and Post-secondary Education Student Support Services
DESCRIPTION:Nearly half of all Washington college students reported experiencing in housing and/or food insecurity in a recent survey.  In this session\, you’ll gain insights about Washington students’ experience of basic needs insecurity and recent policy and investments to address those challenges.  We’ll discuss strategies and student outcomes from the Supporting Students Experiencing Homelessness grant program.  You’ll learn about new initiatives to better address students’ basic needs\, and together we’ll consider collaboration opportunities with Passport. \nPresenters: \nAmi Magisos serves as Associate Director of Strategy and Partnerships at Washington Student Achievement Council.  Her work focuses on understanding and addressing students’ basic needs insecurity for postsecondary students in Washington. \nLaura Coghlan serves as Program Administrator for Supporting Students Experiencing Homelessness at the State Board for Technical and Community Colleges. She is also a member of the Passport Leadership Team. \n[button link=”https://us02web.zoom.us/webinar/register/WN_k_Q6JTjMSlmrK-SqLKM56w”] REGISTER[/button]
URL:https://www.washingtonpassportnetwork.org/event/wpn-webinar-basic-needs-and-post-secondary-education-student-support-services/
CATEGORIES:webinar
END:VEVENT
BEGIN:VEVENT
DTSTART;TZID=America/Los_Angeles:20231214T110000
DTEND;TZID=America/Los_Angeles:20231214T123000
DTSTAMP:20260421T192854
CREATED:20230706T231522Z
LAST-MODIFIED:20230706T231522Z
UID:10000203-1702551600-1702557000@www.washingtonpassportnetwork.org
SUMMARY:South Central Regional Passport Group Meeting- virtual
DESCRIPTION:If you are interested in learning more\, please email us at passport@collegesuccessfoundation.org.
URL:https://www.washingtonpassportnetwork.org/event/south-central-regional-passport-group-meeting-virtual-3/
CATEGORIES:Regional Passport Group
END:VEVENT
BEGIN:VEVENT
DTSTART;TZID=America/Los_Angeles:20231212T180000
DTEND;TZID=America/Los_Angeles:20231212T190000
DTSTAMP:20260421T192854
CREATED:20230629T181014Z
LAST-MODIFIED:20230629T181014Z
UID:10000184-1702404000-1702407600@www.washingtonpassportnetwork.org
SUMMARY:Webinar: WASFA (Español)- for Students and Families
DESCRIPTION:Estudiantes\, adultos y familias podran aprender sobre el formulario WASFA\, cómo prepararse y postularse\, cómo evitar errores comunes\, cómo abordar circunstancias especiales y más! \nPresented by College Success Foundation \n[button link=”https://events.teams.microsoft.com/event/c3827447-a1c3-48aa-83ad-90a10e4c736b@4c3d249e-8851-4e66-92de-6e7e266aae97″ newwindow=”yes”] Register[/button]
URL:https://www.washingtonpassportnetwork.org/event/webinar-wasfa-espanol-for-students-and-families-2/
CATEGORIES:webinar
END:VEVENT
BEGIN:VEVENT
DTSTART;TZID=America/Los_Angeles:20231211T090000
DTEND;TZID=America/Los_Angeles:20231211T233000
DTSTAMP:20260421T192854
CREATED:20230706T213942Z
LAST-MODIFIED:20230706T213942Z
UID:10000188-1702285200-1702337400@www.washingtonpassportnetwork.org
SUMMARY:Passport Leadership Team Meeting - virtual
DESCRIPTION:If you are interested in learning more\, please email us at passport@collegesuccessfoundation.org.
URL:https://www.washingtonpassportnetwork.org/event/passport-leadership-team-meeting-virtual/
CATEGORIES:Leadership Team
END:VEVENT
BEGIN:VEVENT
DTSTART;TZID=America/Los_Angeles:20231207T180000
DTEND;TZID=America/Los_Angeles:20231207T190000
DTSTAMP:20260421T192854
CREATED:20230629T164915Z
LAST-MODIFIED:20230629T164915Z
UID:10000182-1701972000-1701975600@www.washingtonpassportnetwork.org
SUMMARY:Webinar: FAFSA (Español)- for Students and Families
DESCRIPTION:Estudiantes\, adultos y familias podran aprender sobre el formulario FAFSA cómo prepararse y postularse\, cómo evitar errores comunes\, cómo abordar circunstancias especiales y más! \nPresented by College Success Foundation \n[button link=”https://events.teams.microsoft.com/event/bfa8217d-6453-442f-beb3-9619b627cbb2@4c3d249e-8851-4e66-92de-6e7e266aae97″ newwindow=”yes”] Register[/button]
URL:https://www.washingtonpassportnetwork.org/event/webinar-fafsa-espanol-for-students-and-families-2/
CATEGORIES:webinar
END:VEVENT
BEGIN:VEVENT
DTSTART;TZID=America/Los_Angeles:20231207T123000
DTEND;TZID=America/Los_Angeles:20231207T140000
DTSTAMP:20260421T192854
CREATED:20230706T231849Z
LAST-MODIFIED:20230706T231849Z
UID:10000207-1701952200-1701957600@www.washingtonpassportnetwork.org
SUMMARY:Pierce Kitsap Regional Passport Group Meeting - virtual
DESCRIPTION:If you are interested in learning more\, please email us at passport@collegesuccessfoundation.org.
URL:https://www.washingtonpassportnetwork.org/event/pierce-kitsap-regional-passport-group-meeting-virtual/
CATEGORIES:Regional Passport Group
END:VEVENT
BEGIN:VEVENT
DTSTART;TZID=America/Los_Angeles:20231206T130000
DTEND;TZID=America/Los_Angeles:20231206T140000
DTSTAMP:20260421T192854
CREATED:20231109T170535Z
LAST-MODIFIED:20231109T170535Z
UID:10000224-1701867600-1701871200@www.washingtonpassportnetwork.org
SUMMARY:WPN Webinar: Navigating Apple Health and Mental Health Support & Resources
DESCRIPTION:Join us for a brief introduction to Medicaid (Apple Health) and take a deeper dive into Coordinated Care’s Apple Health Core Connections plan – the only health insurance plan for children and youth in foster care and adoption support\, alumni of foster care (ages 18-26)\, reunified families and Unaccompanied Refugee Minors in Washington State. Coordinated Care goes beyond simply paying for doctors’ visits by getting food on the table as well as money in its member’s pockets for completing healthy activities. Their trauma-informed team supports youth and families in finding available healthcare providers (e.g. primary care physicians\, specialists\, therapists\, etc.)\, connecting with community resources to support their holistic needs\, and providing tangible benefits that make life a little easier so members thrive. You’ll also receive some tips and resources for self-care and supporting your mental well-being. \nPresenter: Nathan LaChine\, Therapeutic Foster Parent and Community Educator\, Coordinated Care\nNathan LaChine has been a Therapeutic Foster Parent for the last 17 years\, specializing in early childhood traumas. Nathan’s current role as Board of Director and Webmaster for MaleSurvivor involves the oversight of volunteer staff along with the daily operations of the website which sees over 100\,000 visitors and 2.5 million page views annually. Nathan co-hosted a local radio show “Real Family Matters”\, a live resource show for community members to call in and ask questions. Additionally\, Nathan provides training and resources for caregivers in Washington state. \n[button link=”https://us02web.zoom.us/webinar/register/WN_yMNuLNZqQjKjvVl1dQXDpg”] Register [/button]
URL:https://www.washingtonpassportnetwork.org/event/wpn-webinar-navigating-apple-health-and-mental-health-support-resources/
LOCATION:Zoom
CATEGORIES:webinar
END:VEVENT
BEGIN:VEVENT
DTSTART;TZID=America/Los_Angeles:20231205T100000
DTEND;TZID=America/Los_Angeles:20231205T113000
DTSTAMP:20260421T192854
CREATED:20231103T162659Z
LAST-MODIFIED:20231103T162659Z
UID:10000222-1701770400-1701775800@www.washingtonpassportnetwork.org
SUMMARY:Northwest Regional Passport Network Group Meeting- virtual
DESCRIPTION:If you are interested in learning more\, please email us at passport@collegesuccessfoundation.org.
URL:https://www.washingtonpassportnetwork.org/event/northwest-regional-passport-network-meeting-virtual/
CATEGORIES:Regional Passport Group
END:VEVENT
BEGIN:VEVENT
DTSTART;TZID=America/Los_Angeles:20231130T180000
DTEND;TZID=America/Los_Angeles:20231130T190000
DTSTAMP:20260421T192854
CREATED:20230629T180821Z
LAST-MODIFIED:20230629T180821Z
UID:10000183-1701367200-1701370800@www.washingtonpassportnetwork.org
SUMMARY:Webinar: WASFA (Español)- for Students and Families
DESCRIPTION:Estudiantes\, adultos y familias podran aprender sobre el formulario WASFA\, cómo prepararse y postularse\, cómo evitar errores comunes\, cómo abordar circunstancias especiales y más! \nPresented by College Success Foundation \n[button link=”https://events.teams.microsoft.com/event/ba7d1aee-1c10-47d9-99aa-b3f37f5b38f1@4c3d249e-8851-4e66-92de-6e7e266aae97″ newwindow=”yes”] Register[/button]
URL:https://www.washingtonpassportnetwork.org/event/webinar-wasfa-espanol-for-students-and-families/
CATEGORIES:webinar
END:VEVENT
BEGIN:VEVENT
DTSTART;TZID=America/Los_Angeles:20231130T110000
DTEND;TZID=America/Los_Angeles:20231130T123000
DTSTAMP:20260421T192854
CREATED:20231103T162412Z
LAST-MODIFIED:20231103T162412Z
UID:10000198-1701342000-1701347400@www.washingtonpassportnetwork.org
SUMMARY:Western Regional Passport Group Meeting - virtual
DESCRIPTION:If you are interested in learning more\, please email us at passport@collegesuccecssfoundation.org.
URL:https://www.washingtonpassportnetwork.org/event/western-regional-passport-group-meeting-virtual-5/
CATEGORIES:Regional Passport Group
END:VEVENT
END:VCALENDAR