BEGIN:VCALENDAR
VERSION:2.0
PRODID:-//www.washingtonpassportnetwork.org - ECPv6.15.20//NONSGML v1.0//EN
CALSCALE:GREGORIAN
METHOD:PUBLISH
X-WR-CALNAME:www.washingtonpassportnetwork.org
X-ORIGINAL-URL:https://www.washingtonpassportnetwork.org
X-WR-CALDESC:Events for www.washingtonpassportnetwork.org
REFRESH-INTERVAL;VALUE=DURATION:PT1H
X-Robots-Tag:noindex
X-PUBLISHED-TTL:PT1H
BEGIN:VTIMEZONE
TZID:America/Los_Angeles
BEGIN:DAYLIGHT
TZOFFSETFROM:-0800
TZOFFSETTO:-0700
TZNAME:PDT
DTSTART:20220313T100000
END:DAYLIGHT
BEGIN:STANDARD
TZOFFSETFROM:-0700
TZOFFSETTO:-0800
TZNAME:PST
DTSTART:20221106T090000
END:STANDARD
BEGIN:DAYLIGHT
TZOFFSETFROM:-0800
TZOFFSETTO:-0700
TZNAME:PDT
DTSTART:20230312T100000
END:DAYLIGHT
BEGIN:STANDARD
TZOFFSETFROM:-0700
TZOFFSETTO:-0800
TZNAME:PST
DTSTART:20231105T090000
END:STANDARD
BEGIN:DAYLIGHT
TZOFFSETFROM:-0800
TZOFFSETTO:-0700
TZNAME:PDT
DTSTART:20240310T100000
END:DAYLIGHT
BEGIN:STANDARD
TZOFFSETFROM:-0700
TZOFFSETTO:-0800
TZNAME:PST
DTSTART:20241103T090000
END:STANDARD
END:VTIMEZONE
BEGIN:VTIMEZONE
TZID:UTC
BEGIN:STANDARD
TZOFFSETFROM:+0000
TZOFFSETTO:+0000
TZNAME:UTC
DTSTART:20220101T000000
END:STANDARD
END:VTIMEZONE
BEGIN:VEVENT
DTSTART;TZID=America/Los_Angeles:20231102T100000
DTEND;TZID=America/Los_Angeles:20231102T113000
DTSTAMP:20260422T151026
CREATED:20230706T230822Z
LAST-MODIFIED:20230706T230822Z
UID:10000197-1698919200-1698924600@www.washingtonpassportnetwork.org
SUMMARY:Western Regional Passport Group Meeting - virtual
DESCRIPTION:Topic: Training: Postsecondary Education Pathway and Resources for Students in Foster Care and Unaccompanied Homeless Youth  \nIf you are interested in learning more\, please email us at passport@collegesuccessfoundation.org.
URL:https://www.washingtonpassportnetwork.org/event/western-regional-passport-group-meeting-virtual-2/
CATEGORIES:Regional Passport Group
END:VEVENT
BEGIN:VEVENT
DTSTART;TZID=America/Los_Angeles:20231026T180000
DTEND;TZID=America/Los_Angeles:20231026T183000
DTSTAMP:20260422T151026
CREATED:20230628T224434Z
LAST-MODIFIED:20230628T224434Z
UID:10000173-1698343200-1698345000@www.washingtonpassportnetwork.org
SUMMARY:Webinar: Creating an FSA ID- for Students and Families
DESCRIPTION:Whether you’re a student or parent you’ll need to create your own FSA ID to access and sign the\nFree Application for Federal Student Aid (FAFSA). You will use your FSA ID every year you fill\nout a FAFSA form. Join us to learn how to create and use your FSA ID. \nPresented by College Success Foundation \n[button link=”https://events.teams.microsoft.com/event/7d8d2bd0-761c-4f07-9f63-791ae4af40c0@4c3d249e-8851-4e66-92de-6e7e266aae97″ newwindow=”yes”] Register[/button]
URL:https://www.washingtonpassportnetwork.org/event/webinar-creating-an-fsa-id-for-students-and-families-2/
CATEGORIES:webinar
END:VEVENT
BEGIN:VEVENT
DTSTART;TZID=America/Los_Angeles:20231024T180000
DTEND;TZID=America/Los_Angeles:20231024T183000
DTSTAMP:20260422T151026
CREATED:20230628T224816Z
LAST-MODIFIED:20230628T224816Z
UID:10000175-1698170400-1698172200@www.washingtonpassportnetwork.org
SUMMARY:Webinar: Cómo crear un FSA ID (Español)- for Students and Families
DESCRIPTION:Los estudiantes y padres necesitan crear la credencial FSA ID para acceder y firmar la Solicitud Gratuita de Ayuda Federal para Estudiantes (FAFSA). Utilizaran la credencial FSA ID cada año para llenar y firmar el formulario FASFA. En esta sesión aprenderá como crear y utilizar su FSA ID. \nPresented by College Success Foundation \n[button link=”https://events.teams.microsoft.com/event/7005c9df-bbed-4727-9efb-802ae681072e@4c3d249e-8851-4e66-92de-6e7e266aae97″ newwindow=”yes”] Register[/button]
URL:https://www.washingtonpassportnetwork.org/event/webinar-como-crear-un-fsa-id-espanol-2/
CATEGORIES:webinar
END:VEVENT
BEGIN:VEVENT
DTSTART;TZID=America/Los_Angeles:20231023T100000
DTEND;TZID=America/Los_Angeles:20231023T120000
DTSTAMP:20260422T151026
CREATED:20230907T231358Z
LAST-MODIFIED:20230907T231358Z
UID:10000217-1698055200-1698062400@www.washingtonpassportnetwork.org
SUMMARY:Webinar: Getting Ready for the Better FAFSA
DESCRIPTION:Presented by NCAN \nRegister
URL:https://www.washingtonpassportnetwork.org/event/webinar-getting-ready-for-the-better-fafsa-2/
CATEGORIES:webinar
END:VEVENT
BEGIN:VEVENT
DTSTART;TZID=America/Los_Angeles:20231023T100000
DTEND;TZID=America/Los_Angeles:20231023T113000
DTSTAMP:20260422T151026
CREATED:20230628T222412Z
LAST-MODIFIED:20230628T222412Z
UID:10000166-1698055200-1698060600@www.washingtonpassportnetwork.org
SUMMARY:Webinar: FASFA pt. 1- For Staff
DESCRIPTION:Part 1 is an in-depth tour of the FASFA application\, changes for the upcoming year\, how to avoid common mistakes\, and address special circumstances. Recommended for all levels. \nPresented by College Success Foundation \n[button link=”https://events.teams.microsoft.com/event/a3c2c045-b19b-4102-8acf-a687e2f0ead8@4c3d249e-8851-4e66-92de-6e7e266aae97″ newwindow=”yes”] Register[/button]
URL:https://www.washingtonpassportnetwork.org/event/webinar-fasfa-pt-1-for-staff/
CATEGORIES:webinar
END:VEVENT
BEGIN:VEVENT
DTSTART;TZID=America/Los_Angeles:20231019T180000
DTEND;TZID=America/Los_Angeles:20231019T183000
DTSTAMP:20260422T151026
CREATED:20230628T224650Z
LAST-MODIFIED:20230628T224650Z
UID:10000174-1697738400-1697740200@www.washingtonpassportnetwork.org
SUMMARY:Webinar: Cómo crear un FSA ID (Español)- for Students and Families
DESCRIPTION:Los estudiantes y padres necesitan crear la credencial FSA ID para acceder y firmar la Solicitud Gratuita de Ayuda Federal para Estudiantes (FAFSA). Utilizaran la credencial FSA ID cada año para llenar y firmar el formulario FASFA. En esta sesión aprenderá como crear y utilizar su FSA ID. \nPresented by College Success Foundation \n[button link=”https://events.teams.microsoft.com/event/fc761522-2ce7-4c08-9e89-9f93cfe62462@4c3d249e-8851-4e66-92de-6e7e266aae97″ newwindow=”yes”] Register[/button]
URL:https://www.washingtonpassportnetwork.org/event/webinar-como-crear-un-fsa-id-espanol/
CATEGORIES:webinar
END:VEVENT
BEGIN:VEVENT
DTSTART;TZID=America/Los_Angeles:20231017T180000
DTEND;TZID=America/Los_Angeles:20231017T183000
DTSTAMP:20260422T151026
CREATED:20230628T224136Z
LAST-MODIFIED:20230628T224136Z
UID:10000172-1697565600-1697567400@www.washingtonpassportnetwork.org
SUMMARY:Webinar: Creating an FSA ID- for Students and Families
DESCRIPTION:Whether you’re a student or parent you’ll need to create your own FSA ID to access and sign the Free Application for Federal Student Aid (FAFSA). You will use your FSA ID every year you fill\nout a FAFSA form. Join us to learn how to create and use your FSA ID. \nPresented by College Success Foundation \n[button link=”https://events.teams.microsoft.com/event/e351c66a-015b-48e6-b7a3-705edc7cad89@4c3d249e-8851-4e66-92de-6e7e266aae97″ newwindow=”yes”] Register[/button]
URL:https://www.washingtonpassportnetwork.org/event/webinar-creating-an-fsa-id-for-students-and-families/
CATEGORIES:webinar
END:VEVENT
BEGIN:VEVENT
DTSTART;TZID=America/Los_Angeles:20231016T100000
DTEND;TZID=America/Los_Angeles:20231016T113000
DTSTAMP:20260422T151026
CREATED:20230628T191041Z
LAST-MODIFIED:20230628T191041Z
UID:10000165-1697450400-1697455800@www.washingtonpassportnetwork.org
SUMMARY:Webinar: CSF Scholarships- for Staff
DESCRIPTION:This webinar will prepare you for the next CSF scholarship cycle. Learn about different programs\, and changes for the upcoming year\, and get a tour of the scholarship application platform. \nPresented by College Success Foundation \n[button link=”https://events.teams.microsoft.com/event/6d4c5342-b9fb-48d3-ab5e-478c0402e76a@4c3d249e-8851-4e66-92de-6e7e266aae97″ newwindow=”yes”] Register[/button]
URL:https://www.washingtonpassportnetwork.org/event/webinar-csf-scholarships/
CATEGORIES:webinar
END:VEVENT
BEGIN:VEVENT
DTSTART;TZID=America/Los_Angeles:20231012T110000
DTEND;TZID=America/Los_Angeles:20231012T123000
DTSTAMP:20260422T151026
CREATED:20230706T231444Z
LAST-MODIFIED:20230706T231444Z
UID:10000202-1697108400-1697113800@www.washingtonpassportnetwork.org
SUMMARY:South Central Regional Passport Group Meeting- virtual
DESCRIPTION:If you are interested in learning more\, please email us at passport@collegesuccecssfoundation.org.
URL:https://www.washingtonpassportnetwork.org/event/south-central-regional-passport-group-meeting-virtual-2/
CATEGORIES:Regional Passport Group
END:VEVENT
BEGIN:VEVENT
DTSTART;TZID=America/Los_Angeles:20231012T100000
DTEND;TZID=America/Los_Angeles:20231012T103000
DTSTAMP:20260422T151026
CREATED:20230628T190818Z
LAST-MODIFIED:20230628T190818Z
UID:10000164-1697104800-1697106600@www.washingtonpassportnetwork.org
SUMMARY:Webinar: Creating an FSA ID- for Staff
DESCRIPTION:Students and parents will need to create their own FSA ID to access and sign the Free Application for Federal Student Aid (FAFSA). They will use their FSA ID every year to fill out a FAFSA form. \nJoin us to learn how students and parents will create and use their FSA ID. \nPresented by College Success Foundation \n[button link=”https://events.teams.microsoft.com/event/11bef816-11f8-4589-98d6-bc0f3fc41d42@4c3d249e-8851-4e66-92de-6e7e266aae97″ newwindow=”yes”] Register[/button]
URL:https://www.washingtonpassportnetwork.org/event/webinar-creating-an-fsa-id/
CATEGORIES:webinar
END:VEVENT
BEGIN:VEVENT
DTSTART;TZID=America/Los_Angeles:20231011T130000
DTEND;TZID=America/Los_Angeles:20231011T140000
DTSTAMP:20260422T151026
CREATED:20230907T165346Z
LAST-MODIFIED:20230907T165346Z
UID:10000214-1697029200-1697032800@www.washingtonpassportnetwork.org
SUMMARY:WPN Webinar: Understanding FAFSA Simplification for Youth Experiencing Foster Care (State\, Federal and Tribal)
DESCRIPTION:  \n  \n  \n  \nBig changes are coming this fall for 2024-25 financial aid applications! In this session\, we will discuss the FAFSA Simplification Act\, best practices in implementing changes\, and how to communicate changes to partners\, students\, and their families. We will also share free resources to support you as you help students take their next steps \nPresenter: Christina Winstead (She/Her)\, Associate Director\, College Access Initiatives\, WSAC \n[button link=”https://us02web.zoom.us/webinar/register/WN_4rnCTl48SmOWXb5RCoNHpA” type=”big”] Register Today[/button] \n 
URL:https://www.washingtonpassportnetwork.org/event/wpn-webinar-understanding-fafsa-simplification-form-for-foster-care-state-federal-and-tribal/
CATEGORIES:webinar
END:VEVENT
BEGIN:VEVENT
DTSTART;TZID=America/Los_Angeles:20231010T100000
DTEND;TZID=America/Los_Angeles:20231010T113000
DTSTAMP:20260422T151026
CREATED:20230628T190458Z
LAST-MODIFIED:20230628T190458Z
UID:10000163-1696932000-1696937400@www.washingtonpassportnetwork.org
SUMMARY:Webinar: Financial Aid 101- for Staff
DESCRIPTION:This webinar will provide a general overview of aid available\, changes for the upcoming year\, how financial aid offices build budgets\, and how aid is awarded. Good refresher for beginners. \nPresented by College Success Foundation \n[button link=”https://events.teams.microsoft.com/event/d75ae098-41c8-45ec-a97a-94521a482b7c@4c3d249e-8851-4e66-92de-6e7e266aae97″ newwindow=”yes”] Register[/button]
URL:https://www.washingtonpassportnetwork.org/event/webinar-financial-aid-101/
CATEGORIES:webinar
END:VEVENT
BEGIN:VEVENT
DTSTART;TZID=America/Los_Angeles:20231005T080000
DTEND;TZID=America/Los_Angeles:20231006T170000
DTSTAMP:20260422T151026
CREATED:20230711T213922Z
LAST-MODIFIED:20230711T213922Z
UID:10000211-1696492800-1696611600@www.washingtonpassportnetwork.org
SUMMARY:2023 Conference on Ending Homelessness (COEH)
DESCRIPTION:COEH is the largest annual gathering of people working to end homelessness in Washington. We will gather virtually from across the state to learn from each other\, exchange ideas and share advice\, get inspired and re-energized\, and organize to grow the movement to end homelessness in Washington and beyond. \nThis conference is for everyone – whether you are a service provider\, a long-time housing justice advocate\, an organizer\, an elected official\, or someone who wants to start learning more about how we can end homelessness in Washington\, we extend a warm welcome for you to join us. We will provide multiple spaces for identity-based caucusing to reflect and process with others who share similar identities. \nRegistration will open July 17. Register early for the best rates! \n[button link=”https://www.wliha.org/conference” newwindow=”yes”] More Information [/button]
URL:https://www.washingtonpassportnetwork.org/event/2023-conference-on-ending-homelessness-coeh/
END:VEVENT
BEGIN:VEVENT
DTSTART;TZID=America/Los_Angeles:20231002T100000
DTEND;TZID=America/Los_Angeles:20231002T140000
DTSTAMP:20260422T151026
CREATED:20230706T213846Z
LAST-MODIFIED:20230706T213846Z
UID:10000187-1696240800-1696255200@www.washingtonpassportnetwork.org
SUMMARY:Passport Leadership Team Meeting- in person
DESCRIPTION:If you are interested in learning more\, please email us at passport@collegesuccecssfoundation.org.
URL:https://www.washingtonpassportnetwork.org/event/passport-leadership-team-meeting-in-person/
CATEGORIES:Leadership Team
END:VEVENT
BEGIN:VEVENT
DTSTART;TZID=America/Los_Angeles:20230925T100000
DTEND;TZID=America/Los_Angeles:20230925T120000
DTSTAMP:20260422T151026
CREATED:20230907T231302Z
LAST-MODIFIED:20230907T231302Z
UID:10000216-1695636000-1695643200@www.washingtonpassportnetwork.org
SUMMARY:Webinar: Getting Ready for the Better FAFSA
DESCRIPTION:Presented by NCAN \nRegister
URL:https://www.washingtonpassportnetwork.org/event/webinar-getting-ready-for-the-better-fafsa/
CATEGORIES:webinar
END:VEVENT
BEGIN:VEVENT
DTSTART;TZID=America/Los_Angeles:20230913T130000
DTEND;TZID=America/Los_Angeles:20230913T140000
DTSTAMP:20260422T151026
CREATED:20230824T212600Z
LAST-MODIFIED:20230824T212600Z
UID:10000213-1694610000-1694613600@www.washingtonpassportnetwork.org
SUMMARY:WPN Webinar: Using Real-Time Data to House QTBIPOC Youth and Young Adults
DESCRIPTION:Young people of color and young people who identify as LGBTQ+ are disproportionately served by systems. In this webinar\, we will look at using data to end disproportionality and the importance of breaking down barriers between systems to achieve quality data and equitably end homelessness. \nPresenter:\nLeeze Castro (he/they) – Data & Evaluation Fellow (A Way Home Washington)\nLeeze Castro (he/they)\, 23\, is passionate about ending youth homelessness\, focusing on the unique challenges faced by BIPOC and LGBTQIA2S+ individuals. Leeze brings over 5 years of experience from systems-level change work as a young person with lived experience. Having started with the King County YAB (Youth Action Board) while it was facilitated by the Northwest Network\, the Mockingbird Society\, and eventually itself\, Leeze now sits on the KCRHA’s (King County Regional Homelessness Authority) Continuum of Care Board. After double-majoring in mathematics and sociology\, Leeze now joins those two passions as the Data and Evaluations Fellow for A Way Home Washington\, a non-profit focused on ending youth and young adult homelessness throughout Washington State. There\, Leeze makes use of data-driven strategies to tackle the organization’s mission\, and to take an immediate and direct approach in addressing the ultimate goal of bringing an end to systemic inequity. \n[button link=”https://us02web.zoom.us/webinar/register/WN_h9eeFu35StG5wnhhbzBCUw”] Register Today [/button]
URL:https://www.washingtonpassportnetwork.org/event/wpn-webinar-using-real-time-data-to-house-qtbipoc-youth-and-young-adults/
LOCATION:Zoom
CATEGORIES:webinar
END:VEVENT
BEGIN:VEVENT
DTSTART;TZID=America/Los_Angeles:20230912T120000
DTEND;TZID=America/Los_Angeles:20230912T130000
DTSTAMP:20260422T151026
CREATED:20230907T231201Z
LAST-MODIFIED:20230907T231201Z
UID:10000215-1694520000-1694523600@www.washingtonpassportnetwork.org
SUMMARY:Webinar: ARP-HCY Info Session with ED- SchoolHouse Connection
DESCRIPTION:In the wake of the pandemic\, a nationwide housing shortage\, persistent chronic absence\, and alarming child and youth mental health crises\, students and schools face unprecedented challenges – including increasing homelessness. \nAmerican Rescue Plan — Homeless Children and Youth\, or ARP-HCY funds\, are one-time funds that can help meet these challenges. ARP-HCY funds are designated to support the identification\, enrollment\, and school participation of children and youth experiencing homelessness\, including through wrap-around services. These funds must be obligated by September 30\, 2024 and spent by January 31\, 2025. \nSchoolHouse Connection is hosting this ARP-HCY Info Session featuring presenters from the U.S. Department of Education to provide strategies for meeting urgent needs\, including allowable and strategic uses of funds\, and examples and tools from state and local educational agencies. We encourage participation from school leaders\, homeless liaisons\, state education agency staff\, and community partners\nFeatured Presenter: Adam Schott\, Acting Assistant Secretary\, Office of Elementary and Secondary Education\, U.S. Department of Education.\nRegister
URL:https://www.washingtonpassportnetwork.org/event/webinar-arp-hcy-info-session-with-ed-schoolhouse-connection/
CATEGORIES:webinar
END:VEVENT
BEGIN:VEVENT
DTSTART;TZID=America/Los_Angeles:20230912T103000
DTEND;TZID=America/Los_Angeles:20230912T133000
DTSTAMP:20260422T151026
CREATED:20230706T214412Z
LAST-MODIFIED:20230706T214412Z
UID:10000191-1694514600-1694525400@www.washingtonpassportnetwork.org
SUMMARY:Eastern Regional Passport Group Meeting - in person
DESCRIPTION:
URL:https://www.washingtonpassportnetwork.org/event/eastern-regional-passport-group-meeting-in-person/
LOCATION:Spokane Falls Community College\, 3410 W Whistalks Way\, Spokane\, WA\, 99224\, United States
CATEGORIES:Regional Passport Group
END:VEVENT
BEGIN:VEVENT
DTSTART;TZID=America/Los_Angeles:20230829T100000
DTEND;TZID=America/Los_Angeles:20230829T130000
DTSTAMP:20260422T151026
CREATED:20230706T231801Z
LAST-MODIFIED:20230706T231801Z
UID:10000206-1693303200-1693314000@www.washingtonpassportnetwork.org
SUMMARY:Pierce Kitsap Regional Passport Group Meeting - in person
DESCRIPTION:If you are interested in learning more\, please email us at passport@collegesuccecssfoundation.org.
URL:https://www.washingtonpassportnetwork.org/event/pierce-kitsap-regional-passport-group-meeting-in-person/
LOCATION:University of Washington – Tacoma
CATEGORIES:Regional Passport Group
END:VEVENT
BEGIN:VEVENT
DTSTART;TZID=America/Los_Angeles:20230828T080000
DTEND;TZID=America/Los_Angeles:20230828T170000
DTSTAMP:20260422T151026
CREATED:20230706T231259Z
LAST-MODIFIED:20230706T231259Z
UID:10000201-1693209600-1693242000@www.washingtonpassportnetwork.org
SUMMARY:South Central Regional Passport Group Meeting - in person
DESCRIPTION:If you are interested in learning more\, please email us at passport@collegesuccecssfoundation.org.
URL:https://www.washingtonpassportnetwork.org/event/south-central-regional-passport-group-meeting-in-person/
LOCATION:Perry Technical Institute\, 2011 W Washington Ave\, Yakima\, WA\, 98903\, United States
CATEGORIES:Regional Passport Group
END:VEVENT
BEGIN:VEVENT
DTSTART;TZID=America/Los_Angeles:20230817T110000
DTEND;TZID=America/Los_Angeles:20230817T123000
DTSTAMP:20260422T151026
CREATED:20230706T215050Z
LAST-MODIFIED:20230706T215050Z
UID:10000196-1692270000-1692275400@www.washingtonpassportnetwork.org
SUMMARY:Western Regional Passport Group Meeting - virtual
DESCRIPTION:If you are interested in learning more\, please email us at passport@collegesuccecssfoundation.org.
URL:https://www.washingtonpassportnetwork.org/event/western-regional-passport-group-meeting-virtual/
CATEGORIES:Regional Passport Group
END:VEVENT
BEGIN:VEVENT
DTSTART;TZID=America/Los_Angeles:20230817T100000
DTEND;TZID=America/Los_Angeles:20230817T233000
DTSTAMP:20260422T151026
CREATED:20230811T164736Z
LAST-MODIFIED:20230811T164736Z
UID:10000212-1692266400-1692315000@www.washingtonpassportnetwork.org
SUMMARY:College Access Professionals 2024-25 FAFSA® Demonstration
DESCRIPTION:Webinar for college access professionals will provide a tour of new features and discussion on important updates for 2024–25 FAFSA form! \nThe webinar exclusively for college access professionals will share a tour of new features and discuss important updates to the FAFSA experience. The demonstration will include a look at the new roles page\, inviting contributors\, new question order\, student demographic questions\, the parent wizard\, and other exciting features. Attendees will also view how to provide consent to retrieve and disclose Federal Tax Information (FTI). \nThere will be an opportunity to ask questions. \n[button link=”https://www.eventbrite.com/e/college-access-professionals-2024-25-fafsa-demonstration-tickets-669564835447?aff=oddtdtcreator” newwindow=”yes”] Register Now[/button]
URL:https://www.washingtonpassportnetwork.org/event/college-access-professionals-2024-25-fafsa-demonstration/
CATEGORIES:webinar
END:VEVENT
BEGIN:VEVENT
DTSTART;TZID=America/Los_Angeles:20230712T123000
DTEND;TZID=America/Los_Angeles:20230712T140000
DTSTAMP:20260422T151026
CREATED:20230627T170405Z
LAST-MODIFIED:20230627T170405Z
UID:10000162-1689165000-1689170400@www.washingtonpassportnetwork.org
SUMMARY:Webinar: Targeted Education Case Management for Students in Foster Care: Models and Impact
DESCRIPTION:The American Bar Association’s Legal Center for Foster Care and Education and the Youth Law Center invite you to attend a webinar “Targeted Education Case Management for Students in Foster Care: Models and Impact”. The webinar will highlight two exemplary practice models that provide targeted education case management for students in foster care. Treehouse provides academic and other essential support for more than 6\,000 youth in foster care across Washington State each year. The National Center for Youth Law’s Compassionate Education System initiatives work in partnership with a deeply invested team of state and local partners\, students\, and parents to create a future in which the vast majority of system-involved youth graduate high school with the widest array of possibilities for their future. Both organizations will provide an overview of their programs\, examples of impact\, and strategies to better support the educational needs of students in foster care. \n[button link=”https://americanbar.zoom.us/webinar/register/WN_HI6H_WLiS_Cv5f5c9ZVYkg#/registration” color=”teal”] REGISTER[/button]
URL:https://www.washingtonpassportnetwork.org/event/webinar-targeted-education-case-management-for-students-in-foster-care-models-and-impact/
LOCATION:Zoom
CATEGORIES:webinar
END:VEVENT
BEGIN:VEVENT
DTSTART;TZID=America/Los_Angeles:20230622T140000
DTEND;TZID=America/Los_Angeles:20230622T153000
DTSTAMP:20260422T151026
CREATED:20230612T222443Z
LAST-MODIFIED:20230612T222443Z
UID:10000161-1687442400-1687447800@www.washingtonpassportnetwork.org
SUMMARY:WSAC Webinar: All About the WAFSA
DESCRIPTION:[button link=”https://us02web.zoom.us/webinar/register/WN_Kavx6RIISnqWVITYKYcjwA” newwindow=”yes”] Register[/button]
URL:https://www.washingtonpassportnetwork.org/event/wsac-webinar-all-about-the-wafsa/
LOCATION:Zoom
CATEGORIES:webinar
END:VEVENT
BEGIN:VEVENT
DTSTART;TZID=America/Los_Angeles:20230622T113000
DTEND;TZID=America/Los_Angeles:20230622T130000
DTSTAMP:20260422T151026
CREATED:20230612T222344Z
LAST-MODIFIED:20230612T222344Z
UID:10000160-1687433400-1687438800@www.washingtonpassportnetwork.org
SUMMARY:WSAC Webinar: Washington College Grant - Connect (WCG-C)
DESCRIPTION:[button link=”https://us02web.zoom.us/webinar/register/WN_waLCqPSTRpeZpM1-QboyBw” newwindow=”yes”] Register[/button]
URL:https://www.washingtonpassportnetwork.org/event/wsac-webinar-washington-college-grant-connect-wcg-c/
LOCATION:Zoom
CATEGORIES:webinar
END:VEVENT
BEGIN:VEVENT
DTSTART;TZID=America/Los_Angeles:20230620T140000
DTEND;TZID=America/Los_Angeles:20230620T153000
DTSTAMP:20260422T151026
CREATED:20230612T222231Z
LAST-MODIFIED:20230612T222231Z
UID:10000159-1687269600-1687275000@www.washingtonpassportnetwork.org
SUMMARY:WSAC Webinar: State Workstudy Updates and Portal Walkthrough
DESCRIPTION:[button link=”https://us02web.zoom.us/webinar/register/WN_4zrQ-cQsS76HpUf-6W1ApA” newwindow=”yes”] Register[/button]
URL:https://www.washingtonpassportnetwork.org/event/wsac-webinar-state-workstudy-updates-and-portal-walkthrough/
LOCATION:Zoom
CATEGORIES:webinar
END:VEVENT
BEGIN:VEVENT
DTSTART;TZID=America/Los_Angeles:20230620T110000
DTEND;TZID=America/Los_Angeles:20230620T123000
DTSTAMP:20260422T151026
CREATED:20230612T222117Z
LAST-MODIFIED:20230612T222117Z
UID:10000158-1687258800-1687264200@www.washingtonpassportnetwork.org
SUMMARY:WSAC Webinar: Passport to College
DESCRIPTION:[button link=”https://us02web.zoom.us/webinar/register/WN_zHPh267sT7C2y2QM6pG2OA” newwindow=”yes”] Register[/button]
URL:https://www.washingtonpassportnetwork.org/event/wsac-webinar-passport-to-college/
LOCATION:Zoom
CATEGORIES:webinar
END:VEVENT
BEGIN:VEVENT
DTSTART;TZID=UTC:20230613T140000
DTEND;TZID=UTC:20230613T153000
DTSTAMP:20260422T151026
CREATED:20221105T033226Z
LAST-MODIFIED:20221105T033226Z
UID:10000120-1686664800-1686670200@www.washingtonpassportnetwork.org
SUMMARY:Northwest Regional Passport Group Meeting
DESCRIPTION:This regional group is for professionals and educators in the Northwest region/Region 3* that work in the secondary or post-secondary area and support Passport to Careers eligible students. Please contact passport@collegesuccessfoundation.org for more information.   \n*Region 3 includes Snohomish\, Skagit\, Whatcom\, Island\, and/or San Juan Counties.
URL:https://www.washingtonpassportnetwork.org/event/northwest-regional-passport-group-meeting-15/
LOCATION:Zoom
CATEGORIES:Regional Passport Group
END:VEVENT
BEGIN:VEVENT
DTSTART;TZID=America/Los_Angeles:20230612T080000
DTEND;TZID=America/Los_Angeles:20231124T170000
DTSTAMP:20260422T151026
CREATED:20230517T174404Z
LAST-MODIFIED:20230517T174404Z
UID:10000157-1686556800-1700845200@www.washingtonpassportnetwork.org
SUMMARY:Schoolhouse Connection Youth Leadership and Scholarship Program
DESCRIPTION:This is one of the only national scholarship programs specifically serving youth that have experienced homelessness with financial assistance and staff and peer support to get into and complete higher education. \nApplications will be accepted starting June 12. \nMore information
URL:https://www.washingtonpassportnetwork.org/event/schoolhouse-connection-youth-leadership-and-scholarship-program/
CATEGORIES:Scholarship Opportunity
END:VEVENT
BEGIN:VEVENT
DTSTART;TZID=America/Los_Angeles:20230607T130000
DTEND;TZID=America/Los_Angeles:20230607T140000
DTSTAMP:20260422T151026
CREATED:20230517T174156Z
LAST-MODIFIED:20230517T174156Z
UID:10000156-1686142800-1686146400@www.washingtonpassportnetwork.org
SUMMARY:WPN Webinar: 2023 Legislative Update: Removing Obstacles for the Passport Population
DESCRIPTION:Join members of the Passport Leadership Team Advising Structure Workgroup to learn about and discuss policy successes from the 2023 legislative session. We will also debrief the PLT engagement in advocacy this year and ask for input on how to move these conversations forward. \n[button link=”https://us02web.zoom.us/webinar/register/WN_91AK3cWTQWGk_wxAid9eCQ#/registration”] Register[/button] \nPresenters: \nJuliet Schindler is the Executive Director of Public Affairs and Strategic Partnerships with College Success Foundation. Juliet develops and implements CSF’s state and federal government relations work and advocacy outreach\, and works closely with legislators\, agency and budget staff on CSF’s state funding and policy agenda. She also oversees CSF’s work on the Passport to Careers program\, including as staff to the PLT Advising Structure Workgroup. \n  \n  \n  \nEmily Stochel is the Program Manager of Government Relations & Advocacy with College Success Foundation. Emily works with community partners\, legislators\, and other stakeholders to support policies and legislative advocacy work that aligns with CSF’s mission and values. Emily has special expertise in advocacy relating to those experiencing foster care and homelessness\, as she has been working and volunteering in the child welfare field for over ten years in different capacities\, and has experienced foster care and homelessness first-hand. \n  \n  \n  \nCurtis Anderson first entered state care at the age of seven before being returned to his family at eight. Curtis was homeless on and off prior to this. Curtis would later permanently re-enter the child welfare system at the age of 13. Thanks to the support of Passport to Careers at SCC\, Curtis was able to continue pursuing higher education and obtained a bachelor’s from Eastern Washington University. Curtis is now pursuing a Master of Social Work degree which he will complete in June. Curtis has focused on education as a form of self-empowerment for both him and the students he now works with as a Graduate Assistant at Eastern Washington University. Curtis takes a macro-focused approach in an attempt to improve the systems and policies that affect those who are homeless and in foster care.
URL:https://www.washingtonpassportnetwork.org/event/wpn-webinar-2023-legislative-update-removing-obstacles-for-the-passport-population/
LOCATION:Zoom
CATEGORIES:webinar
END:VEVENT
END:VCALENDAR