BEGIN:VCALENDAR
VERSION:2.0
PRODID:-//www.washingtonpassportnetwork.org - ECPv6.15.20//NONSGML v1.0//EN
CALSCALE:GREGORIAN
METHOD:PUBLISH
X-WR-CALNAME:www.washingtonpassportnetwork.org
X-ORIGINAL-URL:https://www.washingtonpassportnetwork.org
X-WR-CALDESC:Events for www.washingtonpassportnetwork.org
REFRESH-INTERVAL;VALUE=DURATION:PT1H
X-Robots-Tag:noindex
X-PUBLISHED-TTL:PT1H
BEGIN:VTIMEZONE
TZID:America/Los_Angeles
BEGIN:DAYLIGHT
TZOFFSETFROM:-0800
TZOFFSETTO:-0700
TZNAME:PDT
DTSTART:20230312T100000
END:DAYLIGHT
BEGIN:STANDARD
TZOFFSETFROM:-0700
TZOFFSETTO:-0800
TZNAME:PST
DTSTART:20231105T090000
END:STANDARD
BEGIN:DAYLIGHT
TZOFFSETFROM:-0800
TZOFFSETTO:-0700
TZNAME:PDT
DTSTART:20240310T100000
END:DAYLIGHT
BEGIN:STANDARD
TZOFFSETFROM:-0700
TZOFFSETTO:-0800
TZNAME:PST
DTSTART:20241103T090000
END:STANDARD
BEGIN:DAYLIGHT
TZOFFSETFROM:-0800
TZOFFSETTO:-0700
TZNAME:PDT
DTSTART:20250309T100000
END:DAYLIGHT
BEGIN:STANDARD
TZOFFSETFROM:-0700
TZOFFSETTO:-0800
TZNAME:PST
DTSTART:20251102T090000
END:STANDARD
END:VTIMEZONE
BEGIN:VEVENT
DTSTART;TZID=America/Los_Angeles:20241016T130000
DTEND;TZID=America/Los_Angeles:20241016T140000
DTSTAMP:20260423T154535
CREATED:20240910T174130Z
LAST-MODIFIED:20250423T221101Z
UID:10000238-1729083600-1729087200@www.washingtonpassportnetwork.org
SUMMARY:Webinar: Healing-Centered Engagement
DESCRIPTION:Join us for a webinar on healing-centered engagement and learn how to incorporate an asset-based approach to trauma informed practices. More details to come.
URL:https://www.washingtonpassportnetwork.org/event/webinar-healing-centered-engagement/
LOCATION:Zoom
CATEGORIES:webinar
END:VEVENT
BEGIN:VEVENT
DTSTART;TZID=America/Los_Angeles:20241024T110000
DTEND;TZID=America/Los_Angeles:20241024T123000
DTSTAMP:20260423T154535
CREATED:20241015T232027Z
LAST-MODIFIED:20241015T232027Z
UID:10000243-1729767600-1729773000@www.washingtonpassportnetwork.org
SUMMARY:South Central Regional Passport Group Meeting (virtual)
DESCRIPTION:Join Passport Network members from the South Central region for a collaborative discussion. Specific agenda items will be shared prior to the meeting. To learn more\, contact passport@collegesuccessfoundation.org.
URL:https://www.washingtonpassportnetwork.org/event/south-central-regional-passport-group-meeting-virtual-6/
LOCATION:Virtual\, United States
CATEGORIES:Regional Passport Group
END:VEVENT
END:VCALENDAR