BEGIN:VCALENDAR
VERSION:2.0
PRODID:-//www.washingtonpassportnetwork.org - ECPv6.15.20//NONSGML v1.0//EN
CALSCALE:GREGORIAN
METHOD:PUBLISH
X-ORIGINAL-URL:https://www.washingtonpassportnetwork.org
X-WR-CALDESC:Events for www.washingtonpassportnetwork.org
REFRESH-INTERVAL;VALUE=DURATION:PT1H
X-Robots-Tag:noindex
X-PUBLISHED-TTL:PT1H
BEGIN:VTIMEZONE
TZID:America/Los_Angeles
BEGIN:DAYLIGHT
TZOFFSETFROM:-0800
TZOFFSETTO:-0700
TZNAME:PDT
DTSTART:20240310T100000
END:DAYLIGHT
BEGIN:STANDARD
TZOFFSETFROM:-0700
TZOFFSETTO:-0800
TZNAME:PST
DTSTART:20241103T090000
END:STANDARD
BEGIN:DAYLIGHT
TZOFFSETFROM:-0800
TZOFFSETTO:-0700
TZNAME:PDT
DTSTART:20250309T100000
END:DAYLIGHT
BEGIN:STANDARD
TZOFFSETFROM:-0700
TZOFFSETTO:-0800
TZNAME:PST
DTSTART:20251102T090000
END:STANDARD
BEGIN:DAYLIGHT
TZOFFSETFROM:-0800
TZOFFSETTO:-0700
TZNAME:PDT
DTSTART:20260308T100000
END:DAYLIGHT
BEGIN:STANDARD
TZOFFSETFROM:-0700
TZOFFSETTO:-0800
TZNAME:PST
DTSTART:20261101T090000
END:STANDARD
END:VTIMEZONE
BEGIN:VEVENT
DTSTART;TZID=America/Los_Angeles:20250203T140000
DTEND;TZID=America/Los_Angeles:20250203T150000
DTSTAMP:20260422T183820
CREATED:20250115T211519Z
LAST-MODIFIED:20250417T222202Z
UID:10000254-1738591200-1738594800@www.washingtonpassportnetwork.org
SUMMARY:Passport Office Hours
DESCRIPTION:Drop in for virtual office hours with the Passport to Careers team on the first Monday of every month. Got a quick question about program eligibility\, need technical assistance\, or just looking for help brainstorming strategies? Staff from both the college and apprenticeship pathways will be here to help with all this and more!\n\nNo registration necessary\, simply follow the Zoom link below to join.\n\n[button link=”https://us02web.zoom.us/j/84324460920?pwd=acFtSrYoV4clPfamdoHuNXfnNVe3K3.1″ type=”big” newwindow=”yes”] Join Office Hours[/button]
URL:https://www.washingtonpassportnetwork.org/event/passport-office-hours/
LOCATION:Virtual\, United States
CATEGORIES:Passport Office Hours
ATTACH;FMTTYPE=image/png:https://www.washingtonpassportnetwork.org/wp-content/uploads/2025/01/2025-Office-Hours-1200x465-1.png
END:VEVENT
BEGIN:VEVENT
DTSTART;TZID=America/Los_Angeles:20250219T120000
DTEND;TZID=America/Los_Angeles:20250219T130000
DTSTAMP:20260422T183820
CREATED:20250115T210854Z
LAST-MODIFIED:20250115T210854Z
UID:10000253-1739966400-1739970000@www.washingtonpassportnetwork.org
SUMMARY:Lunch and Learn: Apprenticeship Search Tool
DESCRIPTION:Learn to use the apprenticeship search tool on the LNI website to help the young people you work with discover state-registered apprenticeship opportunities across various industries. Halley Shriber\, apprenticeship navigator at ANEW\, will walk us through how to find opportunities that match students’ skills and career goals\, understand the application process\, and familiarize you with the occupation-specific curriculum. By the end of the session\, you’ll be equipped to help students access valuable workforce development pathways and discover the nuances to each apprenticeship program! \n[button link=”https://us02web.zoom.us/meeting/register/d-wRVA8IRQGjaWi4Si8u1w#/registration” type=”big” newwindow=”yes”] Register now[/button]
URL:https://www.washingtonpassportnetwork.org/event/lunch-and-learn-apprenticeship-search-tool/
LOCATION:Virtual\, United States
CATEGORIES:Lunch and Learn
ATTACH;FMTTYPE=image/png:https://www.washingtonpassportnetwork.org/wp-content/uploads/2025/01/250219-Lunch-Learn-ANEW-1200x465-1.png
END:VEVENT
END:VCALENDAR