BEGIN:VCALENDAR
VERSION:2.0
PRODID:-//www.washingtonpassportnetwork.org - ECPv6.15.20//NONSGML v1.0//EN
CALSCALE:GREGORIAN
METHOD:PUBLISH
X-WR-CALNAME:www.washingtonpassportnetwork.org
X-ORIGINAL-URL:https://www.washingtonpassportnetwork.org
X-WR-CALDESC:Events for www.washingtonpassportnetwork.org
REFRESH-INTERVAL;VALUE=DURATION:PT1H
X-Robots-Tag:noindex
X-PUBLISHED-TTL:PT1H
BEGIN:VTIMEZONE
TZID:America/Detroit
BEGIN:DAYLIGHT
TZOFFSETFROM:-0500
TZOFFSETTO:-0400
TZNAME:EDT
DTSTART:20240310T070000
END:DAYLIGHT
BEGIN:STANDARD
TZOFFSETFROM:-0400
TZOFFSETTO:-0500
TZNAME:EST
DTSTART:20241103T060000
END:STANDARD
BEGIN:DAYLIGHT
TZOFFSETFROM:-0500
TZOFFSETTO:-0400
TZNAME:EDT
DTSTART:20250309T070000
END:DAYLIGHT
BEGIN:STANDARD
TZOFFSETFROM:-0400
TZOFFSETTO:-0500
TZNAME:EST
DTSTART:20251102T060000
END:STANDARD
BEGIN:DAYLIGHT
TZOFFSETFROM:-0500
TZOFFSETTO:-0400
TZNAME:EDT
DTSTART:20260308T070000
END:DAYLIGHT
BEGIN:STANDARD
TZOFFSETFROM:-0400
TZOFFSETTO:-0500
TZNAME:EST
DTSTART:20261101T060000
END:STANDARD
END:VTIMEZONE
BEGIN:VEVENT
DTSTART;TZID=America/Detroit:20250421T130000
DTEND;TZID=America/Detroit:20250421T140000
DTSTAMP:20260422T222412
CREATED:20250419T024632Z
LAST-MODIFIED:20250419T024753Z
UID:10000265-1745240400-1745244000@www.washingtonpassportnetwork.org
SUMMARY:Region 3 College & Career Resource Fair
DESCRIPTION:Join us for a virtual college and career resource fair. This event is geared toward high school juniors and seniors in the Northwest Coastal region (region 3) with experience in foster or unaccompanied homelessness\, but all are welcome! \n\n\n\nStudents will have a chance to meet representatives from local organizations and learn about supports\, scholarships and resources. This resource informational session will be an hour long\, and will include information on the Passport to Careers program\, ANEW (apprenticeship and pre-apprenticeship programs)\, and DCYF’s Education and Training Voucher (ETV) program. Attendees will be entered in a raffle to win e-gift cards!
URL:https://www.washingtonpassportnetwork.org/event/region-3-college-career-resource-fair/
CATEGORIES:Student Event
END:VEVENT
END:VCALENDAR