BEGIN:VCALENDAR
VERSION:2.0
PRODID:-//www.washingtonpassportnetwork.org - ECPv6.15.20//NONSGML v1.0//EN
CALSCALE:GREGORIAN
METHOD:PUBLISH
X-WR-CALNAME:www.washingtonpassportnetwork.org
X-ORIGINAL-URL:https://www.washingtonpassportnetwork.org
X-WR-CALDESC:Events for www.washingtonpassportnetwork.org
REFRESH-INTERVAL;VALUE=DURATION:PT1H
X-Robots-Tag:noindex
X-PUBLISHED-TTL:PT1H
BEGIN:VTIMEZONE
TZID:America/Los_Angeles
BEGIN:DAYLIGHT
TZOFFSETFROM:-0800
TZOFFSETTO:-0700
TZNAME:PDT
DTSTART:20220313T100000
END:DAYLIGHT
BEGIN:STANDARD
TZOFFSETFROM:-0700
TZOFFSETTO:-0800
TZNAME:PST
DTSTART:20221106T090000
END:STANDARD
BEGIN:DAYLIGHT
TZOFFSETFROM:-0800
TZOFFSETTO:-0700
TZNAME:PDT
DTSTART:20230312T100000
END:DAYLIGHT
BEGIN:STANDARD
TZOFFSETFROM:-0700
TZOFFSETTO:-0800
TZNAME:PST
DTSTART:20231105T090000
END:STANDARD
BEGIN:DAYLIGHT
TZOFFSETFROM:-0800
TZOFFSETTO:-0700
TZNAME:PDT
DTSTART:20240310T100000
END:DAYLIGHT
BEGIN:STANDARD
TZOFFSETFROM:-0700
TZOFFSETTO:-0800
TZNAME:PST
DTSTART:20241103T090000
END:STANDARD
END:VTIMEZONE
BEGIN:VEVENT
DTSTART;TZID=America/Los_Angeles:20230322T090000
DTEND;TZID=America/Los_Angeles:20230322T103000
DTSTAMP:20260422T062120
CREATED:20230210T212201Z
LAST-MODIFIED:20230210T212201Z
UID:10000142-1679475600-1679481000@www.washingtonpassportnetwork.org
SUMMARY:OSPI-WSAC Webinar: Supporting Student Access to Career Preparation and Apprenticeships
DESCRIPTION:Join OSPI-WSAC staff and our knowledgeable presenters from the Washington State Department of Labor and Industries\, Clover Park Technical College\, and the Washington State Achievement Council on March 22\, 9–10:30 AM.  Learn about pathways to access apprenticeship program opportunities in Washington\, how students interested in apprenticeships can be supported in their path\, how CTCs are playing a role in apprenticeship access\, and bust some common myths about apprenticeships along the way. WSAC will also be sharing information about financial resources available to students who are interested in pursuing apprenticeships.
URL:https://www.washingtonpassportnetwork.org/event/ospi-wsac-webinar-supporting-student-access-to-career-preparation-and-apprenticeships/
LOCATION:Zoom
CATEGORIES:webinar
END:VEVENT
BEGIN:VEVENT
DTSTART;TZID=America/Los_Angeles:20230315T100000
DTEND;TZID=America/Los_Angeles:20230315T120000
DTSTAMP:20260422T062120
CREATED:20230215T165239Z
LAST-MODIFIED:20230215T165239Z
UID:10000145-1678874400-1678881600@www.washingtonpassportnetwork.org
SUMMARY:Foster Care Education Training for All District Staff
DESCRIPTION:Join the OSPI team for a March training.  Attendees will learn the basics of foster care education\, while diving into some current issues school staff are facing.  This training is geared towards any member of a school district.  \n[button link=”https://us02web.zoom.us/meeting/register/tZMkfuCqrT4tGtDN7QigwsjsJ6sLUWVutZAX”] Register Here[/button]
URL:https://www.washingtonpassportnetwork.org/event/foster-care-education-training-for-all-district-staff/
LOCATION:Zoom
CATEGORIES:webinar
END:VEVENT
BEGIN:VEVENT
DTSTART;TZID=America/Los_Angeles:20230222T100000
DTEND;TZID=America/Los_Angeles:20230222T150000
DTSTAMP:20260422T062120
CREATED:20230119T185910Z
LAST-MODIFIED:20230119T185910Z
UID:10000141-1677060000-1677078000@www.washingtonpassportnetwork.org
SUMMARY:OSPI- Annual McKinney-Vento and Foster Care Building Points of Contact Training
DESCRIPTION:Homelessness and foster care can create many barriers to accessing and participating in learning opportunities. But\, with a knowledgeable and caring district support team\, you can ensure that every child and youth experiencing homelessness in Washington state has access to the education and support they need to end their homelessness and achieve their dreams. \nOSPI invites you for a full-day\, interactive\, virtual training designed to help you develop robust supports for students experiencing homelessness and/or foster care. This learning opportunity\, open to all school staff\, will be particularly helpful for liaisons\, principals\, counselors\, social workers\, registrars\, and administrative assistants. \nThe morning session is applicable to all participants\, while the afternoon portion of the training will be most relevant to high school building contacts. \nClock hours are available through PD Enroller. \nLiaisons please forward this opportunity to your building points of contact\, colleagues\, and administrators. We encourage you to register early! Space is limited. \nOur agenda will help you stock your “toolbox” with: \n\nThe importance of building points of contact in program sustainability\nResources for students experiencing homelessness and/or foster care\nBest practices in identification\nTrauma-informed approaches to cultivating connection and belonging for students experiencing homelessness and/or foster care\nAn understanding of the Housing Continuum and agencies that make up the support network for youth and families experiencing homelessness\nStrategies for credit accrual\nNavigating FAFSA\, graduation\, and post-secondary education
URL:https://www.washingtonpassportnetwork.org/event/ospi-annual-mckinney-vento-and-foster-care-building-points-of-contact-training-2/
LOCATION:Zoom
END:VEVENT
BEGIN:VEVENT
DTSTART;TZID=America/Los_Angeles:20230201T100000
DTEND;TZID=America/Los_Angeles:20230201T170000
DTSTAMP:20260422T062120
CREATED:20230119T185652Z
LAST-MODIFIED:20230119T185652Z
UID:10000140-1675245600-1675270800@www.washingtonpassportnetwork.org
SUMMARY:OSPI- Annual McKinney-Vento and Foster Care Building Points of Contact Training
DESCRIPTION:Homelessness and foster care can create many barriers to accessing and participating in learning opportunities. But\, with a knowledgeable and caring district support team\, you can ensure that every child and youth experiencing homelessness in Washington state has access to the education and support they need to end their homelessness and achieve their dreams. \nOSPI invites you to join a full-day\, interactive\, virtual training designed to help you develop robust supports for students experiencing homelessness and/or foster care. This learning opportunity\, open to all school staff\, will be particularly helpful for liaisons\, principals\, counselors\, social workers\, registrars\, and administrative assistants. \nThe morning session is applicable to all participants\, while the afternoon portion of the training will be most relevant to high school building contacts. \nClock hours are available through PD Enroller. \nLiaisons please forward this opportunity to your building points of contact\, colleagues\, and administrators. We encourage you to register early! Space is limited. \nOur agenda will help you stock your “toolbox” with: \n\nThe importance of building points of contact in program sustainability\nResources for students experiencing homelessness and/or foster care\nBest practices in identification\nTrauma-informed approaches to cultivating connection and belonging for students experiencing homelessness and/or foster care\nAn understanding of the Housing Continuum and agencies that make up the support network for youth and families experiencing homelessness\nStrategies for credit accrual\nNavigating FAFSA\, graduation\, and post-secondary education
URL:https://www.washingtonpassportnetwork.org/event/ospi-annual-mckinney-vento-and-foster-care-building-points-of-contact-training/
LOCATION:Zoom
END:VEVENT
END:VCALENDAR