BEGIN:VCALENDAR
VERSION:2.0
PRODID:-//www.washingtonpassportnetwork.org - ECPv6.15.20//NONSGML v1.0//EN
CALSCALE:GREGORIAN
METHOD:PUBLISH
X-WR-CALNAME:www.washingtonpassportnetwork.org
X-ORIGINAL-URL:https://www.washingtonpassportnetwork.org
X-WR-CALDESC:Events for www.washingtonpassportnetwork.org
REFRESH-INTERVAL;VALUE=DURATION:PT1H
X-Robots-Tag:noindex
X-PUBLISHED-TTL:PT1H
BEGIN:VTIMEZONE
TZID:America/Los_Angeles
BEGIN:DAYLIGHT
TZOFFSETFROM:-0800
TZOFFSETTO:-0700
TZNAME:PDT
DTSTART:20220313T100000
END:DAYLIGHT
BEGIN:STANDARD
TZOFFSETFROM:-0700
TZOFFSETTO:-0800
TZNAME:PST
DTSTART:20221106T090000
END:STANDARD
BEGIN:DAYLIGHT
TZOFFSETFROM:-0800
TZOFFSETTO:-0700
TZNAME:PDT
DTSTART:20230312T100000
END:DAYLIGHT
BEGIN:STANDARD
TZOFFSETFROM:-0700
TZOFFSETTO:-0800
TZNAME:PST
DTSTART:20231105T090000
END:STANDARD
BEGIN:DAYLIGHT
TZOFFSETFROM:-0800
TZOFFSETTO:-0700
TZNAME:PDT
DTSTART:20240310T100000
END:DAYLIGHT
BEGIN:STANDARD
TZOFFSETFROM:-0700
TZOFFSETTO:-0800
TZNAME:PST
DTSTART:20241103T090000
END:STANDARD
END:VTIMEZONE
BEGIN:VEVENT
DTSTART;TZID=America/Los_Angeles:20230817T100000
DTEND;TZID=America/Los_Angeles:20230817T233000
DTSTAMP:20260422T075355
CREATED:20230811T164736Z
LAST-MODIFIED:20230811T164736Z
UID:10000212-1692266400-1692315000@www.washingtonpassportnetwork.org
SUMMARY:College Access Professionals 2024-25 FAFSA® Demonstration
DESCRIPTION:Webinar for college access professionals will provide a tour of new features and discussion on important updates for 2024–25 FAFSA form! \nThe webinar exclusively for college access professionals will share a tour of new features and discuss important updates to the FAFSA experience. The demonstration will include a look at the new roles page\, inviting contributors\, new question order\, student demographic questions\, the parent wizard\, and other exciting features. Attendees will also view how to provide consent to retrieve and disclose Federal Tax Information (FTI). \nThere will be an opportunity to ask questions. \n[button link=”https://www.eventbrite.com/e/college-access-professionals-2024-25-fafsa-demonstration-tickets-669564835447?aff=oddtdtcreator” newwindow=”yes”] Register Now[/button]
URL:https://www.washingtonpassportnetwork.org/event/college-access-professionals-2024-25-fafsa-demonstration/
CATEGORIES:webinar
END:VEVENT
END:VCALENDAR