BEGIN:VCALENDAR
VERSION:2.0
PRODID:-//www.washingtonpassportnetwork.org - ECPv6.15.20//NONSGML v1.0//EN
CALSCALE:GREGORIAN
METHOD:PUBLISH
X-ORIGINAL-URL:https://www.washingtonpassportnetwork.org
X-WR-CALDESC:Events for www.washingtonpassportnetwork.org
REFRESH-INTERVAL;VALUE=DURATION:PT1H
X-Robots-Tag:noindex
X-PUBLISHED-TTL:PT1H
BEGIN:VTIMEZONE
TZID:America/Los_Angeles
BEGIN:DAYLIGHT
TZOFFSETFROM:-0800
TZOFFSETTO:-0700
TZNAME:PDT
DTSTART:20220313T100000
END:DAYLIGHT
BEGIN:STANDARD
TZOFFSETFROM:-0700
TZOFFSETTO:-0800
TZNAME:PST
DTSTART:20221106T090000
END:STANDARD
BEGIN:DAYLIGHT
TZOFFSETFROM:-0800
TZOFFSETTO:-0700
TZNAME:PDT
DTSTART:20230312T100000
END:DAYLIGHT
BEGIN:STANDARD
TZOFFSETFROM:-0700
TZOFFSETTO:-0800
TZNAME:PST
DTSTART:20231105T090000
END:STANDARD
BEGIN:DAYLIGHT
TZOFFSETFROM:-0800
TZOFFSETTO:-0700
TZNAME:PDT
DTSTART:20240310T100000
END:DAYLIGHT
BEGIN:STANDARD
TZOFFSETFROM:-0700
TZOFFSETTO:-0800
TZNAME:PST
DTSTART:20241103T090000
END:STANDARD
END:VTIMEZONE
BEGIN:VEVENT
DTSTART;TZID=America/Los_Angeles:20230622T140000
DTEND;TZID=America/Los_Angeles:20230622T153000
DTSTAMP:20260422T043842
CREATED:20230612T222443Z
LAST-MODIFIED:20230612T222443Z
UID:10000161-1687442400-1687447800@www.washingtonpassportnetwork.org
SUMMARY:WSAC Webinar: All About the WAFSA
DESCRIPTION:[button link=”https://us02web.zoom.us/webinar/register/WN_Kavx6RIISnqWVITYKYcjwA” newwindow=”yes”] Register[/button]
URL:https://www.washingtonpassportnetwork.org/event/wsac-webinar-all-about-the-wafsa/
LOCATION:Zoom
CATEGORIES:webinar
END:VEVENT
BEGIN:VEVENT
DTSTART;TZID=America/Los_Angeles:20230622T113000
DTEND;TZID=America/Los_Angeles:20230622T130000
DTSTAMP:20260422T043842
CREATED:20230612T222344Z
LAST-MODIFIED:20230612T222344Z
UID:10000160-1687433400-1687438800@www.washingtonpassportnetwork.org
SUMMARY:WSAC Webinar: Washington College Grant - Connect (WCG-C)
DESCRIPTION:[button link=”https://us02web.zoom.us/webinar/register/WN_waLCqPSTRpeZpM1-QboyBw” newwindow=”yes”] Register[/button]
URL:https://www.washingtonpassportnetwork.org/event/wsac-webinar-washington-college-grant-connect-wcg-c/
LOCATION:Zoom
CATEGORIES:webinar
END:VEVENT
BEGIN:VEVENT
DTSTART;TZID=America/Los_Angeles:20230620T140000
DTEND;TZID=America/Los_Angeles:20230620T153000
DTSTAMP:20260422T043842
CREATED:20230612T222231Z
LAST-MODIFIED:20230612T222231Z
UID:10000159-1687269600-1687275000@www.washingtonpassportnetwork.org
SUMMARY:WSAC Webinar: State Workstudy Updates and Portal Walkthrough
DESCRIPTION:[button link=”https://us02web.zoom.us/webinar/register/WN_4zrQ-cQsS76HpUf-6W1ApA” newwindow=”yes”] Register[/button]
URL:https://www.washingtonpassportnetwork.org/event/wsac-webinar-state-workstudy-updates-and-portal-walkthrough/
LOCATION:Zoom
CATEGORIES:webinar
END:VEVENT
BEGIN:VEVENT
DTSTART;TZID=America/Los_Angeles:20230620T110000
DTEND;TZID=America/Los_Angeles:20230620T123000
DTSTAMP:20260422T043842
CREATED:20230612T222117Z
LAST-MODIFIED:20230612T222117Z
UID:10000158-1687258800-1687264200@www.washingtonpassportnetwork.org
SUMMARY:WSAC Webinar: Passport to College
DESCRIPTION:[button link=”https://us02web.zoom.us/webinar/register/WN_zHPh267sT7C2y2QM6pG2OA” newwindow=”yes”] Register[/button]
URL:https://www.washingtonpassportnetwork.org/event/wsac-webinar-passport-to-college/
LOCATION:Zoom
CATEGORIES:webinar
END:VEVENT
END:VCALENDAR