BEGIN:VCALENDAR
VERSION:2.0
PRODID:-//www.washingtonpassportnetwork.org - ECPv6.15.20//NONSGML v1.0//EN
CALSCALE:GREGORIAN
METHOD:PUBLISH
X-WR-CALNAME:www.washingtonpassportnetwork.org
X-ORIGINAL-URL:https://www.washingtonpassportnetwork.org
X-WR-CALDESC:Events for www.washingtonpassportnetwork.org
REFRESH-INTERVAL;VALUE=DURATION:PT1H
X-Robots-Tag:noindex
X-PUBLISHED-TTL:PT1H
BEGIN:VTIMEZONE
TZID:America/Los_Angeles
BEGIN:DAYLIGHT
TZOFFSETFROM:-0800
TZOFFSETTO:-0700
TZNAME:PDT
DTSTART:20220313T100000
END:DAYLIGHT
BEGIN:STANDARD
TZOFFSETFROM:-0700
TZOFFSETTO:-0800
TZNAME:PST
DTSTART:20221106T090000
END:STANDARD
BEGIN:DAYLIGHT
TZOFFSETFROM:-0800
TZOFFSETTO:-0700
TZNAME:PDT
DTSTART:20230312T100000
END:DAYLIGHT
BEGIN:STANDARD
TZOFFSETFROM:-0700
TZOFFSETTO:-0800
TZNAME:PST
DTSTART:20231105T090000
END:STANDARD
BEGIN:DAYLIGHT
TZOFFSETFROM:-0800
TZOFFSETTO:-0700
TZNAME:PDT
DTSTART:20240310T100000
END:DAYLIGHT
BEGIN:STANDARD
TZOFFSETFROM:-0700
TZOFFSETTO:-0800
TZNAME:PST
DTSTART:20241103T090000
END:STANDARD
END:VTIMEZONE
BEGIN:VEVENT
DTSTART;TZID=America/Los_Angeles:20230912T103000
DTEND;TZID=America/Los_Angeles:20230912T133000
DTSTAMP:20260422T060144
CREATED:20230706T214412Z
LAST-MODIFIED:20230706T214412Z
UID:10000191-1694514600-1694525400@www.washingtonpassportnetwork.org
SUMMARY:Eastern Regional Passport Group Meeting - in person
DESCRIPTION:
URL:https://www.washingtonpassportnetwork.org/event/eastern-regional-passport-group-meeting-in-person/
LOCATION:Spokane Falls Community College\, 3410 W Whistalks Way\, Spokane\, WA\, 99224\, United States
CATEGORIES:Regional Passport Group
END:VEVENT
END:VCALENDAR