BEGIN:VCALENDAR
VERSION:2.0
PRODID:-//www.washingtonpassportnetwork.org - ECPv6.15.20//NONSGML v1.0//EN
CALSCALE:GREGORIAN
METHOD:PUBLISH
X-WR-CALNAME:www.washingtonpassportnetwork.org
X-ORIGINAL-URL:https://www.washingtonpassportnetwork.org
X-WR-CALDESC:Events for www.washingtonpassportnetwork.org
REFRESH-INTERVAL;VALUE=DURATION:PT1H
X-Robots-Tag:noindex
X-PUBLISHED-TTL:PT1H
BEGIN:VTIMEZONE
TZID:UTC
BEGIN:STANDARD
TZOFFSETFROM:+0000
TZOFFSETTO:+0000
TZNAME:UTC
DTSTART:20210101T000000
END:STANDARD
END:VTIMEZONE
BEGIN:VEVENT
DTSTART;TZID=UTC:20221117T133000
DTEND;TZID=UTC:20221117T150000
DTSTAMP:20260422T075204
CREATED:20221105T032057Z
LAST-MODIFIED:20221105T032057Z
UID:10000112-1668691800-1668697200@www.washingtonpassportnetwork.org
SUMMARY:Pierce & Kitsap County Passport Group Meeting
DESCRIPTION:If you work in the secondary or post-secondary space and support Passport to Careers eligible students in Pierce & Kitsap and would like to connect with professionals\, this meeting is for you! This Passport regional group convenes quarterly and meetings are facilitated by the College Success Foundation. Please email passport@collegesuccessfoundation.org for more information.
URL:https://www.washingtonpassportnetwork.org/event/pierce-kitsap-county-passport-group-meeting/
LOCATION:Zoom
CATEGORIES:Regional Passport Group
END:VEVENT
BEGIN:VEVENT
DTSTART;TZID=UTC:20221115T143000
DTEND;TZID=UTC:20221115T160000
DTSTAMP:20260422T075204
CREATED:20221105T031708Z
LAST-MODIFIED:20221105T031708Z
UID:10000109-1668522600-1668528000@www.washingtonpassportnetwork.org
SUMMARY:Eastern Regional Passport Group Meeting
DESCRIPTION:The Eastern Regional Passport Group facilitates collaboration among local service providers\, addresses barriers\, and further empowers students who have experienced foster care or unaccompanied homelessness to achieve their secondary and post-secondary educational and training goals. \nYou are invited to join our group if you work in the secondary or postsecondary space and support Passport to Careers eligible students in the Eastern Washington region\, and would like to connect with professionals. These meetings are facilitated by the College Success Foundation. Please email passport@collegesuccessfoundation.org for more information.
URL:https://www.washingtonpassportnetwork.org/event/eastern-regional-passport-group-meeting-5/
LOCATION:Zoom
CATEGORIES:Regional Passport Group
END:VEVENT
BEGIN:VEVENT
DTSTART;TZID=UTC:20221109T130000
DTEND;TZID=UTC:20221109T140000
DTSTAMP:20260422T075204
CREATED:20221027T031214Z
LAST-MODIFIED:20221027T031214Z
UID:10000107-1667998800-1668002400@www.washingtonpassportnetwork.org
SUMMARY:WPN Webinar November 2022: Introduction to the McKinney-Vento Program
DESCRIPTION:[et_pb_section fb_built=”1″ _builder_version=”4.19.0″ _module_preset=”default” global_colors_info=”{}”][et_pb_row _builder_version=”4.19.0″ _module_preset=”default” global_colors_info=”{}” custom_margin=”|auto||92px||”][et_pb_column type=”4_4″ _builder_version=”4.19.0″ _module_preset=”default” global_colors_info=”{}”][et_pb_text _builder_version=”4.19.0″ _module_preset=”default” global_colors_info=”{}”] \nJoin us for our next WPN webinar on Wednesday\, November 9 from 1-2 p.m. presented by Vivian Rogers Decker of OSPI.  \nWhether you are brand new to working with the McKinney-Vento Act or just want to check your understanding\, this interactive session is for you. Staff from the Office of the Superintendent of Public Instruction (OSPI) will provide an overview of McKinney-Vento\, including definitions\, eligibility\, provisions\, educational resources\, intersection with foster care\, and connection to post-secondary education and opportunities for students who have experienced homelessness. Participants will have an opportunity to check their current knowledge\, process scenarios that can be applied in their daily work and dig into questions as time permits. \nREGISTER TODAY \n[/et_pb_text][/et_pb_column][/et_pb_row][/et_pb_section][et_pb_section fb_built=”1″ _builder_version=”4.19.0″ _module_preset=”default” global_colors_info=”{}”][et_pb_row column_structure=”2_5\,3_5″ _builder_version=”4.19.0″ _module_preset=”default” global_colors_info=”{}”][et_pb_column type=”2_5″ _builder_version=”4.19.0″ _module_preset=”default” global_colors_info=”{}”][et_pb_image src=”https://www.784f4b0c48.nxcli.io/wp-content/uploads/2022/11/Vivian-Rodgers-Decker-scaled.jpg” alt=”photo of a woman” title_text=”Vivian Rodgers Decker” _builder_version=”4.19.0″ _module_preset=”default” global_colors_info=”{}”][/et_pb_image][/et_pb_column][et_pb_column type=”3_5″ _builder_version=”4.19.0″ _module_preset=”default” global_colors_info=”{}”][et_pb_text _builder_version=”4.19.0″ _module_preset=”default” global_colors_info=”{}”] \nVivian Rogers Decker\, Homeless Student Stability Education Program Supervisor for the Office of the Superintendent of Public Instruction (OSPI)\, has spent over 25 years in education serving students and families experiencing trauma\, poverty\, and housing insecurity. Prior to joining OSPI\, Vivian spent 20 years as a liaison and student support specialist between two school districts in Island County where she developed and implemented strong homeless education programs. In addition to her work in education\, Vivian has been instrumental in the founding and leadership of many non-profit organizations and efforts related to meeting the needs of our most vulnerable populations. \nVivian is dedicated to creating inclusive communities and organizations that are responsive to the needs of all citizens\, especially those who are struggling with issues related to isolation\, economic hardship\, and homelessness. In her spare time\, she enjoys being with family and friends\, traveling\, coaching\, designing programs and places\, connecting with others\, and learning new ideas that challenge her to become a better human. \n[/et_pb_text][/et_pb_column][/et_pb_row][/et_pb_section]
URL:https://www.washingtonpassportnetwork.org/event/november-2022/
LOCATION:Zoom
END:VEVENT
BEGIN:VEVENT
DTSTART;TZID=UTC:20221108T100000
DTEND;TZID=UTC:20221108T113000
DTSTAMP:20260422T075204
CREATED:20221105T032000Z
LAST-MODIFIED:20221105T032000Z
UID:10000111-1667901600-1667907000@www.washingtonpassportnetwork.org
SUMMARY:King County Passport Consortium Meeting
DESCRIPTION:The King County Passport Consortium is a diverse group of King County stakeholders who create strategies that improve access to post-secondary programs for youth who have been in foster care or have experienced unaccompanied homelessness. Please email passport@collegesuccessfoundation.org for more information.
URL:https://www.washingtonpassportnetwork.org/event/king-county-passport-consortium-meeting-7/
LOCATION:Zoom
CATEGORIES:Regional Passport Group
END:VEVENT
END:VCALENDAR